BEGIN:VCALENDAR
VERSION:2.0
PRODID:-//Wisconsin Motorcycle Roads Travel Guide - ECPv6.15.18//NONSGML v1.0//EN
CALSCALE:GREGORIAN
METHOD:PUBLISH
X-ORIGINAL-URL:https://wisconsinmotorcycleroads.com
X-WR-CALDESC:Events for Wisconsin Motorcycle Roads Travel Guide
REFRESH-INTERVAL;VALUE=DURATION:PT1H
X-Robots-Tag:noindex
X-PUBLISHED-TTL:PT1H
BEGIN:VTIMEZONE
TZID:America/Chicago
BEGIN:DAYLIGHT
TZOFFSETFROM:-0600
TZOFFSETTO:-0500
TZNAME:CDT
DTSTART:20200308T080000
END:DAYLIGHT
BEGIN:STANDARD
TZOFFSETFROM:-0500
TZOFFSETTO:-0600
TZNAME:CST
DTSTART:20201101T070000
END:STANDARD
BEGIN:DAYLIGHT
TZOFFSETFROM:-0600
TZOFFSETTO:-0500
TZNAME:CDT
DTSTART:20210314T080000
END:DAYLIGHT
BEGIN:STANDARD
TZOFFSETFROM:-0500
TZOFFSETTO:-0600
TZNAME:CST
DTSTART:20211107T070000
END:STANDARD
BEGIN:DAYLIGHT
TZOFFSETFROM:-0600
TZOFFSETTO:-0500
TZNAME:CDT
DTSTART:20220313T080000
END:DAYLIGHT
BEGIN:STANDARD
TZOFFSETFROM:-0500
TZOFFSETTO:-0600
TZNAME:CST
DTSTART:20221106T070000
END:STANDARD
END:VTIMEZONE
BEGIN:VEVENT
DTSTART;TZID=America/Chicago:20210605T103000
DTEND;TZID=America/Chicago:20210606T020000
DTSTAMP:20260422T211126
CREATED:20210226T030506Z
LAST-MODIFIED:20210226T030506Z
UID:1867-1622889000-1622944800@wisconsinmotorcycleroads.com
SUMMARY:Wild Poker Run - Beloit
DESCRIPTION:Wild Poker Run – Beloit \nStarts at Garmins Bottom Up\, in Beloit and ends there. Spaghetti dinner after for purchase\, live music following ride\, 50/50s\, raffles\, contests\, merchandise\, other contests. To raise funds for Coronapalooza and Rock County food pantries. \nVisit Www.coronapalooza2020.org for more info
URL:https://wisconsinmotorcycleroads.com/event/wild-poker-run-beloit/
END:VEVENT
END:VCALENDAR