BEGIN:VCALENDAR
VERSION:2.0
PRODID:-//Wisconsin Motorcycle Roads Travel Guide - ECPv6.15.18//NONSGML v1.0//EN
CALSCALE:GREGORIAN
METHOD:PUBLISH
X-WR-CALNAME:Wisconsin Motorcycle Roads Travel Guide
X-ORIGINAL-URL:https://wisconsinmotorcycleroads.com
X-WR-CALDESC:Events for Wisconsin Motorcycle Roads Travel Guide
REFRESH-INTERVAL;VALUE=DURATION:PT1H
X-Robots-Tag:noindex
X-PUBLISHED-TTL:PT1H
BEGIN:VTIMEZONE
TZID:America/Chicago
BEGIN:DAYLIGHT
TZOFFSETFROM:-0600
TZOFFSETTO:-0500
TZNAME:CDT
DTSTART:20190310T080000
END:DAYLIGHT
BEGIN:STANDARD
TZOFFSETFROM:-0500
TZOFFSETTO:-0600
TZNAME:CST
DTSTART:20191103T070000
END:STANDARD
BEGIN:DAYLIGHT
TZOFFSETFROM:-0600
TZOFFSETTO:-0500
TZNAME:CDT
DTSTART:20200308T080000
END:DAYLIGHT
BEGIN:STANDARD
TZOFFSETFROM:-0500
TZOFFSETTO:-0600
TZNAME:CST
DTSTART:20201101T070000
END:STANDARD
BEGIN:DAYLIGHT
TZOFFSETFROM:-0600
TZOFFSETTO:-0500
TZNAME:CDT
DTSTART:20210314T080000
END:DAYLIGHT
BEGIN:STANDARD
TZOFFSETFROM:-0500
TZOFFSETTO:-0600
TZNAME:CST
DTSTART:20211107T070000
END:STANDARD
END:VTIMEZONE
BEGIN:VEVENT
DTSTART;VALUE=DATE:20200702
DTEND;VALUE=DATE:20200703
DTSTAMP:20260425T124934
CREATED:20200602T114031Z
LAST-MODIFIED:20200602T114031Z
UID:1776-1593648000-1593734399@wisconsinmotorcycleroads.com
SUMMARY:Taco Tuesday Motorcycle Ride - Bangor (1st Tuesday of each month)
DESCRIPTION:Every 1st Tuesday of the month we meet up to grab tacos at a different Mexican restaurant in the Driftless Region of Southwestern Wisconsin! \nIF you have any questions or can’t find us call or text us at 608-844-8485. \nAfter some food and drinks\, we’ll ride a little more\, but your welcome to come or go as ya please. \nThis ride encourages safe practices. It is NOT liable for you\, your bike or your social distancing. 😉 Please refer to the La Crosse County Health Department for COVID-19 and social distancing best practices. \nThis event is not sponsored or affiliated with Fiesta’s Mexicana Restaurant.
URL:https://wisconsinmotorcycleroads.com/event/taco-tuesday-motorcycle-ride-bangor-1st-tuesday-of-each-month/
END:VEVENT
BEGIN:VEVENT
DTSTART;VALUE=DATE:20200711
DTEND;VALUE=DATE:20200712
DTSTAMP:20260425T124934
CREATED:20200620T123048Z
LAST-MODIFIED:20200620T123048Z
UID:1832-1594425600-1594511999@wisconsinmotorcycleroads.com
SUMMARY:Triple C Riders 10th Annual River Cities Charity Ride - (Register in Menominee\, MI)
DESCRIPTION:  \n  \n  \n\nTRIPLE C RIDERS – River Cities Charity Ride \nSaturday July 11th! Triple C Riders 10th annual River Cities ride! If you’re eager to help out your community please save the date and join us in writing for a good cause.
URL:https://wisconsinmotorcycleroads.com/event/triple-c-riders-10th-annual-river-cities-charity-ride-register-in-menominee-mi/
END:VEVENT
BEGIN:VEVENT
DTSTART;TZID=America/Chicago:20200717T000000
DTEND;TZID=America/Chicago:20200719T000000
DTSTAMP:20260425T124934
CREATED:20200128T035343Z
LAST-MODIFIED:20200128T035343Z
UID:1656-1594944000-1595116800@wisconsinmotorcycleroads.com
SUMMARY:British Biker Cooperative 40th Annual Rally and Show - Blue River
DESCRIPTION:7/17-19: British Biker Cooperative 40th Annual Rally and Show – Blue River \nMotorcycle Rally & Show\, Eagle Cave Resort. Blue River\, Wis. Open to all brands of motorcycles. \nThe British Biker Cooperative Celebrates the 40th Anniversary of their Annual Motorcycle Rally & Show\nThe British Biker Cooperative (BBC) has enthusiastically and very successfully promoted the rich heritage of the British motorcycle in the United States for over three decades. Their membership enjoy all facets of British motorcycling past and present through their active participation in motorcycle events throughout the United States and beyond. The BBC is most recognized for their annual Rally that has drawn thousands of motorcyclists over the years into the unique experience of British motorcycling in the United States.\nOn July 17-19\, 2020\, the BBC will celebrate their 40th Annual British Biker Cooperative – Motorcycle Rally and Show at Eagle Cave Natural Campground in Blue River\, Wisconsin. The event offers a weekend of activities:including group rides and bike games\, a Motorcycle Show\, Friday night movie\, band Saturday night\, comfortable shaded camping with dedicated quiet areas\, and refreshments. An assortment of on-site amenities include a restaurant\, camp store\, showers\, and cave tours through Wisconsin’s largest commercial cave. The event formally kick-starts on Friday\, but the BBC encourages riders to arrive early to avoid the rush. The BBC Rally location is 60 miles due west of Madison\, Wisconsin near the Wisconsin River and features many area attractions including rides along the majestic Mississippi River\, Frank Lloyd Wright’s Spring Green\, and The House on the Rock.\nThis event offers a great opportunity to see both rare vintage and late model British motorcycles in action on some of the best riding roads in the Midwest. All motorcycle enthusiasts are welcome.
URL:https://wisconsinmotorcycleroads.com/event/british-biker-cooperative-40th-annual-rally-and-show-blue-river/
END:VEVENT
BEGIN:VEVENT
DTSTART;TZID=America/Chicago:20200724T100000
DTEND;TZID=America/Chicago:20200726T140000
DTSTAMP:20260425T124934
CREATED:20200303T025001Z
LAST-MODIFIED:20200303T025001Z
UID:1709-1595584800-1595772000@wisconsinmotorcycleroads.com
SUMMARY:Biker Bob's Team Hannah Weekender and Charity Ride\, Gleason
DESCRIPTION:Biker Bob’s Team Hannah Weekender and Charity Ride\, Gleason\nMark your calendars for this great Family weekend in Wisconsins northwoods. Watch here for more details! The MC Festival grounds in Gleason has now been secured. We will have a fully equipped grounds with camping\, a pig roast and more surprises to come. Remember all proceeds go to the Team Hannah benefit to the University of WI Burn Center and The Wisconsin Burn Camp! Please share this with friends we have room for a huge group !! \nI’d really love to see my friends support my grand daughter Hannah and make a big appearance! Team Hannah Rocks! More info as it becomes available. Please no colors as this is a family friendly event.
URL:https://wisconsinmotorcycleroads.com/event/biker-bobs-team-hannah-weekender-and-charity-ride-gleason/
END:VEVENT
BEGIN:VEVENT
DTSTART;VALUE=DATE:20200725
DTEND;VALUE=DATE:20200726
DTSTAMP:20260425T124934
CREATED:20200303T032016Z
LAST-MODIFIED:20200303T032016Z
UID:1710-1595635200-1595635200@wisconsinmotorcycleroads.com
SUMMARY:Chad Erickson Thunder Ride for Juvenile Diabetes - La Crosse
DESCRIPTION:Chad Erickson Memorial Thunder Ride for Juvenile Diabetes – Saturday\, July\, 25th \n• Leave From Rod’s Ride On Powersports\, La Crosse at 9:00 a.m.\n• Meal and auctions/raffles at The Moose Lodge after 4:00 p.m. \nEvery day\, over 200\,000 children in our country are struggling with the challenges of juvenile diabetes. Over 200 of these kids are treated locally by Gundersen and Mayo Health Systems. Chances are you have someone in your family or have a friend with a family member that braves the fight against Type 1 diabetes (T1D) every day. \nFor the past 17 years\, motorcycle riders\, community members and local businesses have helped make life a lot better for families battling T1D. Together\, in 2019\, we raised over $32\,000\, helping to provide gap funding to families for supplies and treatment who simply cannot afford the basic necessities to care for their child battling T1D. \nSign-up today and help us help the 200+ kids in our local hospitals that need your help.
URL:https://wisconsinmotorcycleroads.com/event/chad-erickson-thunder-ride-for-juvenile-diabetes-la-crosse/
END:VEVENT
BEGIN:VEVENT
DTSTART;TZID=America/Chicago:20200725T100000
DTEND;TZID=America/Chicago:20200725T160000
DTSTAMP:20260425T124934
CREATED:20200128T024835Z
LAST-MODIFIED:20200128T024835Z
UID:1654-1595671200-1595692800@wisconsinmotorcycleroads.com
SUMMARY:LETTSEWK9 Law Enforcement K9 Ride
DESCRIPTION:7/25: LETTSEWK9 Law Enforcement K9 Ride – Jefferson \nStarts in Jefferson WI\, 13 East Event Center at Neighbor’s Grill and Pizza
URL:https://wisconsinmotorcycleroads.com/event/lettsewk9-law-enforcement-k9-ride/
END:VEVENT
END:VCALENDAR