BEGIN:VCALENDAR
VERSION:2.0
PRODID:-//Wisconsin Motorcycle Roads Travel Guide - ECPv6.15.18//NONSGML v1.0//EN
CALSCALE:GREGORIAN
METHOD:PUBLISH
X-ORIGINAL-URL:https://wisconsinmotorcycleroads.com
X-WR-CALDESC:Events for Wisconsin Motorcycle Roads Travel Guide
REFRESH-INTERVAL;VALUE=DURATION:PT1H
X-Robots-Tag:noindex
X-PUBLISHED-TTL:PT1H
BEGIN:VTIMEZONE
TZID:America/Chicago
BEGIN:DAYLIGHT
TZOFFSETFROM:-0600
TZOFFSETTO:-0500
TZNAME:CDT
DTSTART:20190310T080000
END:DAYLIGHT
BEGIN:STANDARD
TZOFFSETFROM:-0500
TZOFFSETTO:-0600
TZNAME:CST
DTSTART:20191103T070000
END:STANDARD
BEGIN:DAYLIGHT
TZOFFSETFROM:-0600
TZOFFSETTO:-0500
TZNAME:CDT
DTSTART:20200308T080000
END:DAYLIGHT
BEGIN:STANDARD
TZOFFSETFROM:-0500
TZOFFSETTO:-0600
TZNAME:CST
DTSTART:20201101T070000
END:STANDARD
BEGIN:DAYLIGHT
TZOFFSETFROM:-0600
TZOFFSETTO:-0500
TZNAME:CDT
DTSTART:20210314T080000
END:DAYLIGHT
BEGIN:STANDARD
TZOFFSETFROM:-0500
TZOFFSETTO:-0600
TZNAME:CST
DTSTART:20211107T070000
END:STANDARD
END:VTIMEZONE
BEGIN:VEVENT
DTSTART;VALUE=DATE:20200605
DTEND;VALUE=DATE:20200608
DTSTAMP:20260425T141048
CREATED:20200103T034900Z
LAST-MODIFIED:20200103T034900Z
UID:1619-1591315200-1591574399@wisconsinmotorcycleroads.com
SUMMARY:Rustic Road Rally - Elkhorn
DESCRIPTION:Rustic Road Rally – Elkhorn \nJune 5th\, 6th\, & 7th at the Walworth County Fairgrounds in Elkhorn\, Wisconsin. \nThe Rustic Road Riders are bringing you a one of a kind event. From Harley-Davidson\, Indian\, Suzuki\, Yamaha\, Honda\, and everything in between\, this is event is truly for all that embrace the two wheel culture. \nOf course we’ll also be bringing you one of Wisconsin’s premier motorcycle runs as well. The Rustic Road Run will take place on Saturday June 6th beginning and ending at the Walworth County Fairgrounds. A special event will be posted for the run. \nBesides the run\, we’ll have some of the best local bands for you to listen to\, the tastiest food around\, the coolest merchandise\, vendors\, and the coldest drinks. \nDon’t miss out on your chance to be a part of motorcycle history here in Wisconsin. Stay tuned for all the exciting announcements in the coming months. \n 
URL:https://wisconsinmotorcycleroads.com/event/rustic-road-rally-elkhorn/
END:VEVENT
BEGIN:VEVENT
DTSTART;TZID=America/Chicago:20200606T110000
DTEND;TZID=America/Chicago:20200606T180000
DTSTAMP:20260425T141048
CREATED:20200128T030001Z
LAST-MODIFIED:20200128T030001Z
UID:1615-1591441200-1591466400@wisconsinmotorcycleroads.com
SUMMARY:13th Annual Town of Gillett Fire Department Ride - Gillett
DESCRIPTION:6/6: 13TH ANNUAL TOWN OF GILLETT FIRE DEPARTMENT RIDE – GILLETT\nREGISTER AT KLAUS LAKE BAR AT 11:00 AM\, KICKSTANDS UP AT NOON. RAIN OR SHINE. NO BIKE\, NO PROBLEM! CARS AND TRUCKS WELCOME. 2-3 STOPS WITH 50/50 RAFFLE AT EACH STOP. RIDE CONCLUDES AT KLAUS LAKE WITH A LIGHT LUNCH TO FOLLOW.
URL:https://wisconsinmotorcycleroads.com/event/13th-annual-town-of-gillett-fire-department-ride-gillett/
END:VEVENT
BEGIN:VEVENT
DTSTART;TZID=America/Chicago:20200607T100000
DTEND;TZID=America/Chicago:20200607T180000
DTSTAMP:20260425T141048
CREATED:20200128T025420Z
LAST-MODIFIED:20200128T025420Z
UID:1651-1591524000-1591552800@wisconsinmotorcycleroads.com
SUMMARY:Terry's Wall Street Pub's JDRF 'Ride for the Cure'! - Green Bay
DESCRIPTION:6/7: Terry’s Wall Street Pub’s Annual JDRF ‘Ride for the Cure’! – Green Bay\nJoin us for our 5th annual Terry’s Wall Street Pub’s JDRF ‘Ride for the Cure’!\nLeave from Terry’s Wall Street Pub\, Main Street\, Green Bay\, includes meal\, drinks and music.\nHelp us raise $$ for our local Juvenile Diabetes chapter.
URL:https://wisconsinmotorcycleroads.com/event/terrys-wall-street-pubs-jdrf-ride-for-the-cure-green-bay/
END:VEVENT
BEGIN:VEVENT
DTSTART;TZID=America/Chicago:20200614T090000
DTEND;TZID=America/Chicago:20200614T140000
DTSTAMP:20260425T141048
CREATED:20200128T025139Z
LAST-MODIFIED:20200128T025139Z
UID:1652-1592125200-1592143200@wisconsinmotorcycleroads.com
SUMMARY:Ride for Kids - Elkhorn
DESCRIPTION:6/14: Ride for Kids – Elkhorn\nScenic 1 hour ride in southeast Wisconsin\nHave the option of taking a child with brain cancer with you and make a lifelong friend\nBreakfast\, lunch and live music\nWalworth County Fairgrounds\nElkhorn\, Wisconsin
URL:https://wisconsinmotorcycleroads.com/event/ride-for-kids-elkhorn/
END:VEVENT
BEGIN:VEVENT
DTSTART;VALUE=DATE:20200626
DTEND;VALUE=DATE:20200629
DTSTAMP:20260425T141048
CREATED:20200620T114535Z
LAST-MODIFIED:20200620T114535Z
UID:1813-1593129600-1593388799@wisconsinmotorcycleroads.com
SUMMARY:MOTOAMERICA SUPERBIKE SERIES FEATURING VINTAGE MOTOFEST - Elkhart Lake
DESCRIPTION:MOTOAMERICA SUPERBIKE SERIES FEATURING VINTAGE MOTOFEST – Elkhart Lake
URL:https://wisconsinmotorcycleroads.com/event/motoamerica-superbike-series-featuring-vintage-motofest-elkhart-lake/
END:VEVENT
BEGIN:VEVENT
DTSTART;VALUE=DATE:20200627
DTEND;VALUE=DATE:20200628
DTSTAMP:20260425T141048
CREATED:20200620T115737Z
LAST-MODIFIED:20200620T115737Z
UID:1821-1593216000-1593302399@wisconsinmotorcycleroads.com
SUMMARY:Forest Junction Veterans Party - Forest Junction
DESCRIPTION:Forest Junction Veterans Party – Forest Junction
URL:https://wisconsinmotorcycleroads.com/event/forest-junction-veterans-party-forest-junction/
END:VEVENT
BEGIN:VEVENT
DTSTART;VALUE=DATE:20200627
DTEND;VALUE=DATE:20200628
DTSTAMP:20260425T141048
CREATED:20200620T120926Z
LAST-MODIFIED:20200620T120926Z
UID:1824-1593216000-1593302399@wisconsinmotorcycleroads.com
SUMMARY:Operating Engineers 139 Poker Run for Hogs for Heroes - Coloma
DESCRIPTION:Operating Engineers 139 Poker Run for Hogs for Heroes – Coloma \nHogs for Heroes\, a WI non profit organization that raises funds to buy Harleys to return injured WI Veteran riders back to the healing road – we’d love to invite you to join us! All proceeds to us…and as is our promise\, 100% of all donations go straight to the next Bike & Veteran pairing.
URL:https://wisconsinmotorcycleroads.com/event/operating-engineers-139-poker-run-for-hogs-for-heroes-coloma/
END:VEVENT
END:VCALENDAR