BEGIN:VCALENDAR
VERSION:2.0
PRODID:-//Wisconsin Motorcycle Roads Travel Guide - ECPv6.15.18//NONSGML v1.0//EN
CALSCALE:GREGORIAN
METHOD:PUBLISH
X-WR-CALNAME:Wisconsin Motorcycle Roads Travel Guide
X-ORIGINAL-URL:https://wisconsinmotorcycleroads.com
X-WR-CALDESC:Events for Wisconsin Motorcycle Roads Travel Guide
REFRESH-INTERVAL;VALUE=DURATION:PT1H
X-Robots-Tag:noindex
X-PUBLISHED-TTL:PT1H
BEGIN:VTIMEZONE
TZID:America/Chicago
BEGIN:DAYLIGHT
TZOFFSETFROM:-0600
TZOFFSETTO:-0500
TZNAME:CDT
DTSTART:20190310T080000
END:DAYLIGHT
BEGIN:STANDARD
TZOFFSETFROM:-0500
TZOFFSETTO:-0600
TZNAME:CST
DTSTART:20191103T070000
END:STANDARD
BEGIN:DAYLIGHT
TZOFFSETFROM:-0600
TZOFFSETTO:-0500
TZNAME:CDT
DTSTART:20200308T080000
END:DAYLIGHT
BEGIN:STANDARD
TZOFFSETFROM:-0500
TZOFFSETTO:-0600
TZNAME:CST
DTSTART:20201101T070000
END:STANDARD
BEGIN:DAYLIGHT
TZOFFSETFROM:-0600
TZOFFSETTO:-0500
TZNAME:CDT
DTSTART:20210314T080000
END:DAYLIGHT
BEGIN:STANDARD
TZOFFSETFROM:-0500
TZOFFSETTO:-0600
TZNAME:CST
DTSTART:20211107T070000
END:STANDARD
END:VTIMEZONE
BEGIN:VEVENT
DTSTART;TZID=America/Chicago:20200313T000000
DTEND;TZID=America/Chicago:20200313T000000
DTSTAMP:20260425T175816
CREATED:20200128T034610Z
LAST-MODIFIED:20200128T034610Z
UID:1670-1584057600-1584057600@wisconsinmotorcycleroads.com
SUMMARY:Flat Out Friday Indoor Flat Track Racing - Milwaukee
DESCRIPTION:3/13: Flat Out Friday Indoor Flat Track Racing – Milwaukee \nHooligans\, Boonie Bikes\, Vintage\, Women’s Hooligan\, Goofball and MORE will be racing Fiserv Forum on March 13! Hit up www.flatoutfriday.com for more info and tickets!
URL:https://wisconsinmotorcycleroads.com/event/flat-out-friday-indoor-flat-track-racing-milwaukee/
END:VEVENT
BEGIN:VEVENT
DTSTART;TZID=America/Chicago:20200314T000000
DTEND;TZID=America/Chicago:20200315T000000
DTSTAMP:20260425T175816
CREATED:20200128T034241Z
LAST-MODIFIED:20200128T034241Z
UID:1672-1584144000-1584230400@wisconsinmotorcycleroads.com
SUMMARY:Mama Tried Motorcycle Show - Milwaukee
DESCRIPTION:3/14 – 3/15: Mama Tried Motorcycle Show – Milwaukee \nMama Tried Motorcycle Show is an indoor invitational that connects motorcycles and builders to fans and riders alike. Keeping the fire stoked all winter long. The Show features over 100 motorcycles from builders of all calibers—flat-tracker\, hill climber\, chopper\, and bar hopper. Eagles Ballroom\, Milwaukee
URL:https://wisconsinmotorcycleroads.com/event/mama-tried-motorcycle-show-milwaukee-2/
END:VEVENT
END:VCALENDAR