BEGIN:VCALENDAR
VERSION:2.0
PRODID:-//Wisconsin Motorcycle Roads Travel Guide - ECPv6.15.18//NONSGML v1.0//EN
CALSCALE:GREGORIAN
METHOD:PUBLISH
X-ORIGINAL-URL:https://wisconsinmotorcycleroads.com
X-WR-CALDESC:Events for Wisconsin Motorcycle Roads Travel Guide
REFRESH-INTERVAL;VALUE=DURATION:PT1H
X-Robots-Tag:noindex
X-PUBLISHED-TTL:PT1H
BEGIN:VTIMEZONE
TZID:America/Chicago
BEGIN:DAYLIGHT
TZOFFSETFROM:-0600
TZOFFSETTO:-0500
TZNAME:CDT
DTSTART:20180311T080000
END:DAYLIGHT
BEGIN:STANDARD
TZOFFSETFROM:-0500
TZOFFSETTO:-0600
TZNAME:CST
DTSTART:20181104T070000
END:STANDARD
BEGIN:DAYLIGHT
TZOFFSETFROM:-0600
TZOFFSETTO:-0500
TZNAME:CDT
DTSTART:20190310T080000
END:DAYLIGHT
BEGIN:STANDARD
TZOFFSETFROM:-0500
TZOFFSETTO:-0600
TZNAME:CST
DTSTART:20191103T070000
END:STANDARD
BEGIN:DAYLIGHT
TZOFFSETFROM:-0600
TZOFFSETTO:-0500
TZNAME:CDT
DTSTART:20200308T080000
END:DAYLIGHT
BEGIN:STANDARD
TZOFFSETFROM:-0500
TZOFFSETTO:-0600
TZNAME:CST
DTSTART:20201101T070000
END:STANDARD
END:VTIMEZONE
BEGIN:VEVENT
DTSTART;VALUE=DATE:20190601
DTEND;VALUE=DATE:20190602
DTSTAMP:20260423T135420
CREATED:20180209T040819Z
LAST-MODIFIED:20180209T040819Z
UID:735-1559347200-1559433599@wisconsinmotorcycleroads.com
SUMMARY:Rumble On The Lake - Cable
DESCRIPTION:2019 Rumble on the Lake Motorcycle Fundraising Event The 7th annual Rumble on the Lake ride to benefit local and national charities for people is set for Saturday June 1st\, 2019. Rumble on the Lake is the unofficial kick-off the “Up North” big little ride weekends. The event will showcase the best in Wisconsin and has emerged as a recognized event across the state.\nWe expect to see over 300+ participants sharing their love of motorcycles\, the north woods while giving back to our community. Come join and help us reach our 2018 goal of $28\,000. We promise that this event will not disappoint. For more information and to learn more\, find us online at www.rumbleonthelake.com. To keep up with how we roll throughout the year “like” us on FB!
URL:https://wisconsinmotorcycleroads.com/event/rumble-on-the-lake-cable/
END:VEVENT
BEGIN:VEVENT
DTSTART;TZID=America/Chicago:20190601T110000
DTEND;TZID=America/Chicago:20190601T180000
DTSTAMP:20260423T135420
CREATED:20190421T233840Z
LAST-MODIFIED:20190421T233840Z
UID:1240-1559386800-1559412000@wisconsinmotorcycleroads.com
SUMMARY:Ride to Remember (formerly Buck Kittredge Memorial Ride) - Sobieski
DESCRIPTION:Ride to Remember (formerly Buck Kittredge Memorial Ride) – Sobieski \nRide to Remeber is formerly the Buck Kittredge memorial ride. After 15 years we decided to remember all we lost along the way with a ride to remember. It will start and end at Twisted Family 6056 County Rd S Sobieski 54171. One of the stops will be at Brookeside Cemetery for a memorial to honor and celebrate our Brothers and Sisters in the Wind. This is a motorcycle ride but\, open to all vehicles. We will have a Fun Run to be drawn at Twisted\, 50/50s and more….
URL:https://wisconsinmotorcycleroads.com/event/ride-to-remember-formerly-buck-kittredge-memorial-ride-sobieski/
END:VEVENT
BEGIN:VEVENT
DTSTART;TZID=America/Chicago:20190601T150000
DTEND;TZID=America/Chicago:20190601T210000
DTSTAMP:20260423T135420
CREATED:20190505T214854Z
LAST-MODIFIED:20190505T214854Z
UID:1282-1559401200-1559422800@wisconsinmotorcycleroads.com
SUMMARY:Bike Blessing - Kansasville
DESCRIPTION:Bike Blessing – Kansasville \nSaturday\, June 1st\, at 1175 Sports Park & Eatery in Kansasville\, Wi\, Veterans Outreach of Wisconsin is hosting a Bike Blessing. Blessing starts at 3pm\, music goes live at 4pm. Don’t ride? Come for the raffles & LIVE music! Koltrane & Lunchmoney Bullies will be playing\, there will be door prizes\, a gun raffle\, 50/50 raffle\, and great food! Save-the-date and make the trip out to support veterans in need! Proceeds go towards Veterans Outreach of Wisconsin and the James A. Peterson Veteran Village. Their mission is to assist homeless and at-risk Veterans strive for normalcy in life by providing food\, clothing\, shelter\, and other basic human needs. For more information about Veterans Outreach of Wisconsin\, visit their website at https://vetsoutreachwi.us\n1175 Sports Park & Eatery: 22840 Durand Ave\, Kansasville\, WI
URL:https://wisconsinmotorcycleroads.com/event/bike-blessing-kansasville/
END:VEVENT
BEGIN:VEVENT
DTSTART;VALUE=DATE:20190602
DTEND;VALUE=DATE:20190603
DTSTAMP:20260423T135420
CREATED:20190104T041727Z
LAST-MODIFIED:20190104T041727Z
UID:977-1559433600-1559519999@wisconsinmotorcycleroads.com
SUMMARY:Terry's Wall Street Pub JDRF 'Ride for the Cure' - Green Bay
DESCRIPTION:Terry’s Wall Street Pub JDRF ‘Ride for the Cure’ – Green Bay \nHelp us raise funds for the local Chapter of the Juvenile Diabetes Foundation – 100% of the proceeds raised will go directly to the local chapter. Registration starts at Terry’s Wall Street Pub at 10am\, ride leaves at 12noon. 3-stops and back to Terry’s for a free meal\, drinks and music! Wheel barrow of booze\, raffles\, gift baskets\, 50/50 raffle and more! Hope you can make it!
URL:https://wisconsinmotorcycleroads.com/event/terrys-wall-street-pub-4th-annual-jdrf-ride-for-the-cure/
END:VEVENT
BEGIN:VEVENT
DTSTART;TZID=America/Chicago:20190608T080000
DTEND;TZID=America/Chicago:20190609T023000
DTSTAMP:20260423T135420
CREATED:20190505T213925Z
LAST-MODIFIED:20190505T213925Z
UID:1284-1559980800-1560047400@wisconsinmotorcycleroads.com
SUMMARY:Ride for Wolverine Wrestlers - Crivitz
DESCRIPTION:Ride for Wolverine Wrestlers – Crivitz \nStarting in crivitz at THORS WOLVERINE DEN (423 HALL AVE).\n8-10 REGISTRATION.\nKICKSTANDS UP 1030AM\nESTIMATED RETURN 5PM\n101 MILE RIDE\n4 STOP PLUS THORS WOLVERINE DEN (5 TOTAL).\nPOKER RUN\, BEST AND WORST HAND WINS.\nFOOD\, MUSIC\, AFTER PARTY AT THORS WOLVERINE DEN AFTERWORDS.
URL:https://wisconsinmotorcycleroads.com/event/ride-for-wolverine-wrestlers-crivitz/
END:VEVENT
BEGIN:VEVENT
DTSTART;TZID=America/Chicago:20190608T083000
DTEND;TZID=America/Chicago:20190608T183000
DTSTAMP:20260423T135420
CREATED:20190327T010357Z
LAST-MODIFIED:20190327T010357Z
UID:1142-1559982600-1560018600@wisconsinmotorcycleroads.com
SUMMARY:8th Annual Veteran's Benefit Ride\, Oshkosh
DESCRIPTION:8th Annual Veteran’s Benefit Ride\, Oshkosh \nRegistration on June 8th will be from 8:30 am to 10:00 am and riders will need to return to Winnebago Detachment 357 Marine Corps League 4715 Sherman Road Oshkosh WI 54901 by 4:00 pm to be included in the Poker Hand and get your meal. There will be live music\, basket raffles and a gun raffle also going on. Drawings will begin at 6:00 p.m. Email winnebagomcl@gmail.com or call 920-235-2222 if more information is needed.
URL:https://wisconsinmotorcycleroads.com/event/8th-annual-veterans-benefit-ride-oshkosh/
END:VEVENT
BEGIN:VEVENT
DTSTART;TZID=America/Chicago:20190608T103000
DTEND;TZID=America/Chicago:20190608T103000
DTSTAMP:20260423T135420
CREATED:20190505T214318Z
LAST-MODIFIED:20190505T214318Z
UID:1283-1559989800-1559989800@wisconsinmotorcycleroads.com
SUMMARY:Unite 4 Peyton Benefit Poker Run - Milwaukee
DESCRIPTION:Unite 4 Peyton Benefit Poker Run – Milwaukee \nRegistration starts at Fuel Cafe 5th street. 10:30 – 12:30\nRegistration and organization info\nwww.unite4peyton.com
URL:https://wisconsinmotorcycleroads.com/event/unite-4-peyton-benefit-poker-run-milwaukee/
END:VEVENT
BEGIN:VEVENT
DTSTART;TZID=America/Chicago:20190615T090000
DTEND;TZID=America/Chicago:20190616T000000
DTSTAMP:20260423T135420
CREATED:20190505T220720Z
LAST-MODIFIED:20190505T220720Z
UID:1273-1560589200-1560643200@wisconsinmotorcycleroads.com
SUMMARY:4th Annual Ride to Rock Out the Silence - Mauston
DESCRIPTION:4th Annual Ride to Rock Out the Silence – Mauston \nRide starts at Reel Brothers in Mauston\, Wi with 2 stops and ends at Point Bluff in Wisconsin Dells. Music\, food and great raffle prizes.\nThis ride is a fundraiser ride for The Guardians of the Children Castle Rock Chapter a non profit organization that helps raise awareness and educate the public about child abuse. We are advocates for the children and their families.\nRegistration starts at 9am and kick stands are up at 11 am.
URL:https://wisconsinmotorcycleroads.com/event/4th-annual-ride-to-rock-out-the-silence-mauston/
END:VEVENT
BEGIN:VEVENT
DTSTART;TZID=America/Chicago:20190615T103000
DTEND;TZID=America/Chicago:20190615T170000
DTSTAMP:20260423T135420
CREATED:20190505T215413Z
LAST-MODIFIED:20190505T215413Z
UID:1280-1560594600-1560618000@wisconsinmotorcycleroads.com
SUMMARY:2nd Annual Hogs 4 Dogs Poker Run - Eagle
DESCRIPTION:2nd Annual Hogs 4 Dogs Poker Run – Eagle \nThe Irish Rovers Riding Group Hogs 4 Dogs Poker Run and raffle for Saturday\, June 15\, 2019 to raise money for Pets for Vets.\nTo help cover the expenses of training pets to be placed with Veterans\, they rely on donations and fundraising efforts.\nAll proceeds go directly to Pets for Vets. \n 
URL:https://wisconsinmotorcycleroads.com/event/2nd-annual-hogs-4-dogs-poker-run-eagle/
END:VEVENT
BEGIN:VEVENT
DTSTART;TZID=America/Chicago:20190615T110000
DTEND;TZID=America/Chicago:20190616T010000
DTSTAMP:20260423T135420
CREATED:20190213T044112Z
LAST-MODIFIED:20190213T044112Z
UID:1074-1560596400-1560646800@wisconsinmotorcycleroads.com
SUMMARY:7th Annual Honor Flight Poker Run sponsored by the Devil's Knights MC
DESCRIPTION:Rain or Shine.\nPoker Run through Door and Kewaunee counties\nFood/Drinks\nLive Music\nFree Camping\nPaddle Wheel Raffle
URL:https://wisconsinmotorcycleroads.com/event/7th-annual-honor-flight-poker-run-sponsored-by-the-devils-knights-mc/
END:VEVENT
BEGIN:VEVENT
DTSTART;TZID=America/Chicago:20190620T120000
DTEND;TZID=America/Chicago:20190622T235900
DTSTAMP:20260423T135420
CREATED:20190505T215609Z
LAST-MODIFIED:20190505T215609Z
UID:1279-1561032000-1561247940@wisconsinmotorcycleroads.com
SUMMARY:Rollin Iron Bike Fest - Gile
DESCRIPTION:Rollin’ Iron Bike Fest – Gile \nHead north for the Rollin’ Iron Bike Fest\, June 20 – 22. Starting in Gile\, the poker run will include businesses throughout the North of Wisconsin. Enjoy scenic rides including waterfalls\, Lake Superior and the Penokee Mountains. Businesses will offer specials throughout the event. Saturday will feature the Summer Solstice Celebration in Gile with Live Music\, Food\, Bags & Darts Tournament and MORE!! Visit www.hurleywi.com for details and registration information
URL:https://wisconsinmotorcycleroads.com/event/rollin-iron-bike-fest-hurley/
END:VEVENT
BEGIN:VEVENT
DTSTART;TZID=America/Chicago:20190622T090000
DTEND;TZID=America/Chicago:20190622T183000
DTSTAMP:20260423T135420
CREATED:20190423T001800Z
LAST-MODIFIED:20190423T001800Z
UID:1275-1561194000-1561228200@wisconsinmotorcycleroads.com
SUMMARY:Operating Engineers Poker Run\, benefitting Hogs For Heroes - Coloma
DESCRIPTION:Operating Engineers Poker Run\, benefitting Hogs For Heroes – Coloma \nStart/Ends at: WOE Training Center– W11584 Hwy 21\, Coloma WI \nFirst Bike Out: 10:00 AM & Last Bike In: 5:30 PM\nReturn for LIVE MUSIC\, CASH prizes and Food & Refreshments provided by the American Legion Post 139 \nAll proceeds go to Hogs For Heroes… a WI nonprofit working to restore healing freedom on two wheels to an injured WI Veteran rider who fought for ours.
URL:https://wisconsinmotorcycleroads.com/event/operating-engineers-poker-run-benefitting-hogs-for-heroes-coloma/
END:VEVENT
BEGIN:VEVENT
DTSTART;TZID=America/Chicago:20190622T093000
DTEND;TZID=America/Chicago:20190622T093000
DTSTAMP:20260423T135420
CREATED:20181207T004246Z
LAST-MODIFIED:20181207T004246Z
UID:950-1561195800-1561195800@wisconsinmotorcycleroads.com
SUMMARY:2nd Annual Fighting Suicide Run\, Pulaski
DESCRIPTION:This is their 2nd year for the Fighting Suicide Run! All proceeds are going to be donated to Family Services\, Crisis Center in Green Bay. They will be starting at Buck’s Bar & Grill in Pulaski\, WI and after 3 stops returning back to Bucks. Please feel free to find them on Facebook at https://www.facebook.com/fightingsuiciderun/. They look forward to seeing you!!
URL:https://wisconsinmotorcycleroads.com/event/2nd-annual-fighting-suicide-run/
END:VEVENT
BEGIN:VEVENT
DTSTART;TZID=America/Chicago:20190622T100000
DTEND;TZID=America/Chicago:20190622T100000
DTSTAMP:20260423T135420
CREATED:20190122T034012Z
LAST-MODIFIED:20190122T034012Z
UID:993-1561197600-1561197600@wisconsinmotorcycleroads.com
SUMMARY:2nd Annual Never Forgotten Honor Flight Ride\, Antigo
DESCRIPTION:2nd Annual Never Forgotten Honor Flight Ride\, Antigo \nWe are leaving from Not Bob’s Bar in Antigo. We will be having a cash raffle with tickets for sale by the end of February. Come join us in raising money for the Never Forgotten Honor Flight. This Ride will be stopping at a VERY special place. It promises to be a ride to remember. \n 
URL:https://wisconsinmotorcycleroads.com/event/2nd-annual-never-forgotten-honor-flight-ride-antigo/
END:VEVENT
BEGIN:VEVENT
DTSTART;TZID=America/Chicago:20190622T100000
DTEND;TZID=America/Chicago:20190622T220000
DTSTAMP:20260423T135420
CREATED:20190505T215127Z
LAST-MODIFIED:20190505T215127Z
UID:1281-1561197600-1561240800@wisconsinmotorcycleroads.com
SUMMARY:Ride for The Able\, Not the Label - Fond du Lac
DESCRIPTION:Ride for The Able\, Not the Label – Fond du Lac \nAnnual Fundraising for The Arc Fond du Lac who helps the population of individuals who have intellectual\, development and physical disabilities. The ride starts at Open-Road Harley Davidson\, 24 S Rolling Meadows Drive\, in Fond du Lac with registration start 10am to 11:30a\, Blessing of Bikes\, Kickstands Up at 12pm. Routing through Kettle Moraine\, with some great stops in between. The ride will be about 4 hours. Final stop is at The Eagles Club\, 515 N Park Avenue for Food\, Drinks\, Raffles\, and Music from Mason Street Band. ABATE Wisconsin (Region 2C) will lead the ride. Classic Cars and Clubs are Welcome.
URL:https://wisconsinmotorcycleroads.com/event/ride-for-the-able-not-the-label-fond-du-lac/
END:VEVENT
BEGIN:VEVENT
DTSTART;TZID=America/Chicago:20190623T120000
DTEND;TZID=America/Chicago:20190623T200000
DTSTAMP:20260423T135420
CREATED:20190419T193724Z
LAST-MODIFIED:20190419T193724Z
UID:1201-1561291200-1561320000@wisconsinmotorcycleroads.com
SUMMARY:Stink Starr Chopper Show - Block Party\, West Allis
DESCRIPTION:Stink Starr Chopper Show – Block Party\, West Allis \nBikes\, Beer\, Live Music\, Vendors\, Food Trucks\nBroken Starr Saloon – 1100 S 60th – West Allis\, WI \n 
URL:https://wisconsinmotorcycleroads.com/event/stink-starr-chopper-show-block-party-west-allis/
END:VEVENT
END:VCALENDAR