BEGIN:VCALENDAR
VERSION:2.0
PRODID:-//Wisconsin Motorcycle Roads Travel Guide - ECPv6.15.18//NONSGML v1.0//EN
CALSCALE:GREGORIAN
METHOD:PUBLISH
X-ORIGINAL-URL:https://wisconsinmotorcycleroads.com
X-WR-CALDESC:Events for Wisconsin Motorcycle Roads Travel Guide
REFRESH-INTERVAL;VALUE=DURATION:PT1H
X-Robots-Tag:noindex
X-PUBLISHED-TTL:PT1H
BEGIN:VTIMEZONE
TZID:America/Chicago
BEGIN:DAYLIGHT
TZOFFSETFROM:-0600
TZOFFSETTO:-0500
TZNAME:CDT
DTSTART:20170312T080000
END:DAYLIGHT
BEGIN:STANDARD
TZOFFSETFROM:-0500
TZOFFSETTO:-0600
TZNAME:CST
DTSTART:20171105T070000
END:STANDARD
BEGIN:DAYLIGHT
TZOFFSETFROM:-0600
TZOFFSETTO:-0500
TZNAME:CDT
DTSTART:20180311T080000
END:DAYLIGHT
BEGIN:STANDARD
TZOFFSETFROM:-0500
TZOFFSETTO:-0600
TZNAME:CST
DTSTART:20181104T070000
END:STANDARD
BEGIN:DAYLIGHT
TZOFFSETFROM:-0600
TZOFFSETTO:-0500
TZNAME:CDT
DTSTART:20190310T080000
END:DAYLIGHT
BEGIN:STANDARD
TZOFFSETFROM:-0500
TZOFFSETTO:-0600
TZNAME:CST
DTSTART:20191103T070000
END:STANDARD
END:VTIMEZONE
BEGIN:VTIMEZONE
TZID:America/Toronto
BEGIN:DAYLIGHT
TZOFFSETFROM:-0500
TZOFFSETTO:-0400
TZNAME:EDT
DTSTART:20170312T070000
END:DAYLIGHT
BEGIN:STANDARD
TZOFFSETFROM:-0400
TZOFFSETTO:-0500
TZNAME:EST
DTSTART:20171105T060000
END:STANDARD
BEGIN:DAYLIGHT
TZOFFSETFROM:-0500
TZOFFSETTO:-0400
TZNAME:EDT
DTSTART:20180311T070000
END:DAYLIGHT
BEGIN:STANDARD
TZOFFSETFROM:-0400
TZOFFSETTO:-0500
TZNAME:EST
DTSTART:20181104T060000
END:STANDARD
BEGIN:DAYLIGHT
TZOFFSETFROM:-0500
TZOFFSETTO:-0400
TZNAME:EDT
DTSTART:20190310T070000
END:DAYLIGHT
BEGIN:STANDARD
TZOFFSETFROM:-0400
TZOFFSETTO:-0500
TZNAME:EST
DTSTART:20191103T060000
END:STANDARD
END:VTIMEZONE
BEGIN:VEVENT
DTSTART;TZID=America/Chicago:20180512T090000
DTEND;TZID=America/Chicago:20180512T190000
DTSTAMP:20260422T120413
CREATED:20180309T032958Z
LAST-MODIFIED:20180309T032958Z
UID:748-1526115600-1526151600@wisconsinmotorcycleroads.com
SUMMARY:CVMA 45-3 Spring Thaw Poker Run\, Greenville
DESCRIPTION:Northeastern Wisconsin (CVMA 45-3) chapter of the Combat Veterans Motorcycle Association is proud to present their Annual Poker Run to benefit local Guitars 4 Vets\, and other local veteran charities. Registration will take place at Third Base Bar & Grill in Greenville\,WI. The ride will end at back at Third Base with 5 or more stops in between. Raffles and a silent action will be held at Third Base. $25 rider\, $10 passenger. First bikes out at 10. Prize for High Hand will be $500. Food and music will be available. \nThird Base Bar & Grill\nW7003 Parkview Dr\nGreenville\, WI 54942 \nCVMA45.3Secretary@gmail.com \n 
URL:https://wisconsinmotorcycleroads.com/event/cvma-45-3-spring-thaw-poker-run-greenville/
END:VEVENT
BEGIN:VEVENT
DTSTART;VALUE=DATE:20180517
DTEND;VALUE=DATE:20180521
DTSTAMP:20260422T120413
CREATED:20180309T035736Z
LAST-MODIFIED:20180309T035736Z
UID:753-1526515200-1526860799@wisconsinmotorcycleroads.com
SUMMARY:Veterans "SALUTE" Motorcycle Celebration - Camp NCN\, Black River Falls
DESCRIPTION:Open to everyone 18+ \n“Honoring” our Veterans\, Military\, & Families. Live Band Saturday Night. Discounted Event Prices!\nAll Active Military and Vets $50 per person with up to 3 nights of camping. $69 for Non-Military \nAbate Members and all Military (Active and Veterans) receive a $5 discount off of the gate price. \n(Camp NCN = Camp No Clothes Necessary\, 18+ Only\, See campncn.com for details.) \nThursday Night: One hour of free beer for all Veterans courtesy of ‘Sand Creek Brewing Company’ along with other drink specials for vets. \nSaturday Night: $1500 Fireworks display at 10PM \nRegistration Fee Includes Event and Primitive Camping Only\n30 Amp and 50 Amp campsites and Chalets available to rent.
URL:https://wisconsinmotorcycleroads.com/event/veterans-salute-motorcycle-celebration-camp-ncn-black-river-falls/
END:VEVENT
BEGIN:VEVENT
DTSTART;TZID=America/Chicago:20180519T080000
DTEND;TZID=America/Chicago:20180519T170000
DTSTAMP:20260422T120413
CREATED:20180118T035318Z
LAST-MODIFIED:20180118T035318Z
UID:692-1526716800-1526749200@wisconsinmotorcycleroads.com
SUMMARY:Rustic Road Run - TBD
DESCRIPTION:May 19th\, excellent ride for a GREAT cause…Raising money for Children’s Hospital….go to the Rustic Road Run Facepage…”LIKE” it and ”SHARE” it with all your friends….for continuous updates. This run will get you your WISCONSIN DOT Rustic Road patch\, also be sure to purchase your Rustic Road Run patch for future specials/deals. Plenty of time make your plans\, so again go to the page\, LIKE & SHARE and look thru to see past rides….MAY 19th\, 2018
URL:https://wisconsinmotorcycleroads.com/event/rustic-road-run-tbd/
END:VEVENT
BEGIN:VEVENT
DTSTART;TZID=America/Toronto:20180520T093000
DTEND;TZID=America/Toronto:20180520T150000
DTSTAMP:20260422T120413
CREATED:20180309T033328Z
LAST-MODIFIED:20180309T033328Z
UID:746-1526808600-1526828400@wisconsinmotorcycleroads.com
SUMMARY:Biker Sunday Worship & Ride\, Saxeville
DESCRIPTION:Pastor Brian Cole will be sharing the word and Matt Kolb (Lunchbox) will be leading worship!\nCome out and join us for fellowship\,food and of course a Ride!\nFree Will offering will be taken !\nSaxeville Community Church\nHwy A Saxeville WI \nAll are welcome you don’t need to ride a motorcycle!
URL:https://wisconsinmotorcycleroads.com/event/biker-sunday-worship-ride-saxeville/
END:VEVENT
BEGIN:VEVENT
DTSTART;TZID=America/Chicago:20180520T110000
DTEND;TZID=America/Chicago:20180520T110000
DTSTAMP:20260422T120413
CREATED:20180118T001957Z
LAST-MODIFIED:20180118T001957Z
UID:669-1526814000-1526814000@wisconsinmotorcycleroads.com
SUMMARY:19th Annual Ride To Benefit The Veterans at King
DESCRIPTION:Ride leaves Appleton Harley Davidson \, 5322 Clairemont Dr.\, Appleton\, WI at 11:00 am Arrives at King Veterans Home (N2665 County Rd QQ\, King\, WI 54946) at approx. 12:15 am. Ride to being promoted by FOX VALLEY WI. H.O.G CHAPTER.\nRegistration day of ride – 9:00 to 10:30 am\nThere will be free donuts and coffee during registration.\nActivities provided by the Wisconsin Veterans Home\, King\, WI.: Antique Automobile Show\, Live Music\, Military\nVehicle Display\, Museum Tours\, Free Boat Rides on the Chain O’ Lakes on board the Chief Waupaca\nStern-wheeler\, Food Booths and refreshments available.\nAll monies raised benefit the Veterans Home\, King\, Wisconsin For more info. contact Ron Comer 920-858-2637
URL:https://wisconsinmotorcycleroads.com/event/19th-annual-ride-to-benefit-the-veterans-at-king-wi/
END:VEVENT
BEGIN:VEVENT
DTSTART;VALUE=DATE:20180528
DTEND;VALUE=DATE:20180529
DTSTAMP:20260422T120413
CREATED:20180127T170822Z
LAST-MODIFIED:20180127T170822Z
UID:720-1527465600-1527551999@wisconsinmotorcycleroads.com
SUMMARY:Memorial Day Honor Ride - The Highground\, Neillsville
DESCRIPTION:
URL:https://wisconsinmotorcycleroads.com/event/memorial-day-honor-ride-the-highground-neillsville/
END:VEVENT
END:VCALENDAR