BEGIN:VCALENDAR
VERSION:2.0
PRODID:-//Wisconsin Motorcycle Roads Travel Guide - ECPv6.15.18//NONSGML v1.0//EN
CALSCALE:GREGORIAN
METHOD:PUBLISH
X-WR-CALNAME:Wisconsin Motorcycle Roads Travel Guide
X-ORIGINAL-URL:https://wisconsinmotorcycleroads.com
X-WR-CALDESC:Events for Wisconsin Motorcycle Roads Travel Guide
REFRESH-INTERVAL;VALUE=DURATION:PT1H
X-Robots-Tag:noindex
X-PUBLISHED-TTL:PT1H
BEGIN:VTIMEZONE
TZID:America/Chicago
BEGIN:DAYLIGHT
TZOFFSETFROM:-0600
TZOFFSETTO:-0500
TZNAME:CDT
DTSTART:20170312T080000
END:DAYLIGHT
BEGIN:STANDARD
TZOFFSETFROM:-0500
TZOFFSETTO:-0600
TZNAME:CST
DTSTART:20171105T070000
END:STANDARD
BEGIN:DAYLIGHT
TZOFFSETFROM:-0600
TZOFFSETTO:-0500
TZNAME:CDT
DTSTART:20180311T080000
END:DAYLIGHT
BEGIN:STANDARD
TZOFFSETFROM:-0500
TZOFFSETTO:-0600
TZNAME:CST
DTSTART:20181104T070000
END:STANDARD
BEGIN:DAYLIGHT
TZOFFSETFROM:-0600
TZOFFSETTO:-0500
TZNAME:CDT
DTSTART:20190310T080000
END:DAYLIGHT
BEGIN:STANDARD
TZOFFSETFROM:-0500
TZOFFSETTO:-0600
TZNAME:CST
DTSTART:20191103T070000
END:STANDARD
END:VTIMEZONE
BEGIN:VEVENT
DTSTART;TZID=America/Chicago:20180415T110000
DTEND;TZID=America/Chicago:20180415T170000
DTSTAMP:20260422T055910
CREATED:20180127T160355Z
LAST-MODIFIED:20180127T160355Z
UID:708-1523790000-1523811600@wisconsinmotorcycleroads.com
SUMMARY:ABATE 2E Spring Fling\, Tanners in Appleton
DESCRIPTION:Event Rescheduled to May 6. Drawing was April 15. \nRaffles\, education\, membership opportunities\, vendors\, motorcycle show\, and socializing. \n \n 
URL:https://wisconsinmotorcycleroads.com/event/abate-2e-spring-fling-tanners-in-appleton/
END:VEVENT
BEGIN:VEVENT
DTSTART;TZID=America/Chicago:20180428T080000
DTEND;TZID=America/Chicago:20180429T150000
DTSTAMP:20260422T055910
CREATED:20180116T044230Z
LAST-MODIFIED:20180116T044230Z
UID:659-1524902400-1525014000@wisconsinmotorcycleroads.com
SUMMARY:Blackhawk Region BMW Club Flea Market/MotoExpo
DESCRIPTION:33rd annual BMW motorcycle Flea Market\, largest of its kind in the Midwest! Parts\, new and used\, gear\, clothing\, you never know what will come in the door! INDOORS at the Winnebago County Fairgrounds\, Pecatonica\, Illinois.\nSaturday\, April 28\, 2018. 1:00-6:00pm\nSunday\, April 29\, 2018. 8:00am-3:00pm\nBreakfast\, lunch & dinner served.\nSorry no pets allowed in the fairgrounds.\nFor more information see our web site:\nblackhawkbmwclub.org
URL:https://wisconsinmotorcycleroads.com/event/blackhawk-region-bmw-club-flea-marketmotoexpo/
END:VEVENT
BEGIN:VEVENT
DTSTART;TZID=America/Chicago:20180428T100000
DTEND;TZID=America/Chicago:20180428T160000
DTSTAMP:20260422T055910
CREATED:20180127T164106Z
LAST-MODIFIED:20180127T164106Z
UID:711-1524909600-1524931200@wisconsinmotorcycleroads.com
SUMMARY:Triple C Riders & ABATE 3A Chili Cookoff and Motorcycle Awareness Rally
DESCRIPTION:
URL:https://wisconsinmotorcycleroads.com/event/triple-c-riders-abate-3a-chili-cookoff-and-motorcycle-awareness-rally/
END:VEVENT
END:VCALENDAR