BEGIN:VCALENDAR
VERSION:2.0
PRODID:-//Wisconsin Motorcycle Roads Travel Guide - ECPv6.15.18//NONSGML v1.0//EN
CALSCALE:GREGORIAN
METHOD:PUBLISH
X-ORIGINAL-URL:https://wisconsinmotorcycleroads.com
X-WR-CALDESC:Events for Wisconsin Motorcycle Roads Travel Guide
REFRESH-INTERVAL;VALUE=DURATION:PT1H
X-Robots-Tag:noindex
X-PUBLISHED-TTL:PT1H
BEGIN:VTIMEZONE
TZID:America/Chicago
BEGIN:DAYLIGHT
TZOFFSETFROM:-0600
TZOFFSETTO:-0500
TZNAME:CDT
DTSTART:20170312T080000
END:DAYLIGHT
BEGIN:STANDARD
TZOFFSETFROM:-0500
TZOFFSETTO:-0600
TZNAME:CST
DTSTART:20171105T070000
END:STANDARD
BEGIN:DAYLIGHT
TZOFFSETFROM:-0600
TZOFFSETTO:-0500
TZNAME:CDT
DTSTART:20180311T080000
END:DAYLIGHT
BEGIN:STANDARD
TZOFFSETFROM:-0500
TZOFFSETTO:-0600
TZNAME:CST
DTSTART:20181104T070000
END:STANDARD
BEGIN:DAYLIGHT
TZOFFSETFROM:-0600
TZOFFSETTO:-0500
TZNAME:CDT
DTSTART:20190310T080000
END:DAYLIGHT
BEGIN:STANDARD
TZOFFSETFROM:-0500
TZOFFSETTO:-0600
TZNAME:CST
DTSTART:20191103T070000
END:STANDARD
BEGIN:DAYLIGHT
TZOFFSETFROM:-0600
TZOFFSETTO:-0500
TZNAME:CDT
DTSTART:20200308T080000
END:DAYLIGHT
BEGIN:STANDARD
TZOFFSETFROM:-0500
TZOFFSETTO:-0600
TZNAME:CST
DTSTART:20201101T070000
END:STANDARD
END:VTIMEZONE
BEGIN:VEVENT
DTSTART;TZID=America/Chicago:20180609T100000
DTEND;TZID=America/Chicago:20180609T160000
DTSTAMP:20260419T165829
CREATED:20180428T013544Z
LAST-MODIFIED:20180428T013544Z
UID:802-1528538400-1528560000@wisconsinmotorcycleroads.com
SUMMARY:Bikes and Burgers - Rhinelander
DESCRIPTION:Bikes and Burgers\, show off your bike\, enter into judging on peoples choice bike. Great Music and food available and swap meet. 10am – 4pm June 9th\, 2018. \nFrom Facebook Event: Join us in Downtown Rhinelander for the second annual Bikes & Burgers June 9th from 10am – 3pm. Bikes will line the streets of Downtown Rhinelander. Bring your own Motorcycle to display or come see the wide variety of bikes and proud bike owners. Vote for your favorite Motorcycle with trophies to be presented. \nAnd we can’t forget the Burgers.. oh the Burgers\, yum! Downtown Restaurants will be grilling in the street making some of the finest burgers in the area. \nEnjoy Bikes & Burgers while listening to LIVE MUSIC by NOLIUM from noon to 3:00pm! \nDon’t miss Bikes & Burgers June 9th from 10am to 3pm in Downtown Rhinelander!
URL:https://wisconsinmotorcycleroads.com/event/bikes-and-burgers-rhinelander/
END:VEVENT
BEGIN:VEVENT
DTSTART;VALUE=DATE:20180620
DTEND;VALUE=DATE:20180625
DTSTAMP:20260419T165829
CREATED:20180309T041117Z
LAST-MODIFIED:20180309T041117Z
UID:755-1529452800-1529884799@wisconsinmotorcycleroads.com
SUMMARY:Black River Rumble - Camp NCN\, Black River Falls
DESCRIPTION:Black River Rumble\nX-rated motorcycle games and more. According to Outlaw Biker Magazine\, the Black River Rumble is one of the hottest\, sexiest biker parties in America! \nAbate Members and all Military (Active and Veterans) receive a $5 discount off of the gate price. \nThe Black River Rumble is OPEN to all motorcycle enthusiasts!!\n…and purveyors of all women and everyone else who wants to have fun and over 18 years of age. \nAlso\, Live Music Saturday night. \nThis year’s Rally will once again have the spectacularly picturesque POKER RUN. There will be bike contests\, nude oil wresting\, games\, and more! \nAlso\, this year the Black River Rumble is a 4-night party by popular demand. It starts on Wednesday and continues until Sunday morning. Or you can come anytime during the weekend and still have more sexy fun than you’ve ever had. \nGates open at 10:00AM Wednesday… That evening there will be FREE Tap beer from 5:00PM to 7:00PM. Please Note! Only on Wednesday night! \nOil wrestling\, dancers\, Biker games. \nPlease remember this event is open to ALL Motorcycle Enthusiasts 18 and older\, with or without a bike. \n(Camp NCN = Camp No Clothes Necessary\, 18+ Only\, See campncn.com for details.)
URL:https://wisconsinmotorcycleroads.com/event/black-river-rumble-camp-ncn-black-river-falls/
END:VEVENT
BEGIN:VEVENT
DTSTART;VALUE=DATE:20180623
DTEND;VALUE=DATE:20180624
DTSTAMP:20260419T165829
CREATED:20180127T173924Z
LAST-MODIFIED:20180127T173924Z
UID:726-1529712000-1529798399@wisconsinmotorcycleroads.com
SUMMARY:Adams County Humane Society Fundraising Motorcycle Ride\, Friendship
DESCRIPTION:The Adams County Humane Society will be having their  fist motorcycle fundraising ride on June 23rd of 2018. All kinds of motorcycles and cars are welcome\, so mark you calendar.
URL:https://wisconsinmotorcycleroads.com/event/adams-county-humane-society-fundraising-motorcycle-ride-friendship/
END:VEVENT
BEGIN:VEVENT
DTSTART;TZID=America/Chicago:20180623T100000
DTEND;TZID=America/Chicago:20180623T100000
DTSTAMP:20260419T165829
CREATED:20180317T032844Z
LAST-MODIFIED:20180317T032844Z
UID:773-1529748000-1529748000@wisconsinmotorcycleroads.com
SUMMARY:Waushara County Poker Run to benefit Hogs For Heroes\, Coloma
DESCRIPTION:Hard hats\, amazing Vets and huge hearts combine! Roam the beautiful roads of Waushara County as Wisconsin’s Local IUOE 139 and American Legion Post 139 host a Poker Run benefitting Wisconsin’s nonprofit\, Hogs For Heroes. We will start and end at the amazing IUOE Training Center in Coloma… and live music\, great food and even more fun await your return. Cash prizes for best hands. ALL ARE WELCOME! \nPre-register and save $5! Onsite registration opens at 9. Bikes out at 11.
URL:https://wisconsinmotorcycleroads.com/event/waushara-county-poker-run-to-benefit-hogs-for-heroes-coloma/
END:VEVENT
BEGIN:VEVENT
DTSTART;TZID=America/Chicago:20180623T100000
DTEND;TZID=America/Chicago:20180623T170000
DTSTAMP:20260419T165829
CREATED:20180416T212526Z
LAST-MODIFIED:20180416T212526Z
UID:783-1529748000-1529773200@wisconsinmotorcycleroads.com
SUMMARY:American Legion Riders Post 164 - Poker Run
DESCRIPTION:American Legion Post 164\nPoker Run\nSaturday June 23rd\, 2018\nRegistration 10-11am\nAll Wheels Welcome\, last vehicle in at 5:00pm\nJefferson Clubhouse\n321 N. Main Street\nJefferson\nCost: $15 per rider/driver and $5 per passenger\n(Event will be held rain or shine) \nCash prize(s) for best Poker hand and raffles will be available at the end of the run \nLive music from 6-10pm by Lost Sound \nPoker Run will consist of stops at other American Legion and VFW Posts and the Moving Wall/Military show in Watertown. Net proceeds to benefit the American Legion charities such as the Milwaukee & Madison VA’s\, Fischer House\, Badger Boys\, Camp American Legion\, local high school scholarships and Jefferson Food Pantry. \nPlease visit our Facebook page American Legion Post 164:\nhttps://www.facebook.com/events/534777293542762/
URL:https://wisconsinmotorcycleroads.com/event/american-legion-riders-post-164-poker-run/
END:VEVENT
BEGIN:VEVENT
DTSTART;TZID=America/Chicago:20180630T080000
DTEND;TZID=America/Chicago:20180630T210000
DTSTAMP:20260419T165829
CREATED:20180315T021508Z
LAST-MODIFIED:20180315T021508Z
UID:768-1530345600-1530392400@wisconsinmotorcycleroads.com
SUMMARY:The King Run - Oshkosh
DESCRIPTION:Please come and join us for a great cause\, while we raise money for the veterans that live at the Wisconsin veterans home at King\, Wisconsin. Pre-registration at Park Av. Bar in Oshkosh on June 29 from 6 to 9 PM. If you come in and pre-register\, you will get a free drink if you like. On the day of our event\, registration will be open from 8 to 10 AM\, (at the arena)\, with a bike blessing to follow. We will all have lunch with the veterans at the home in King\, where food will be available for purchase. This year\, we are also going to have a separate 50-50 drawing while we are at the home. This year\, one of the changes we are making is that we will be getting our sheets stamped at each of our stops rather than drawing cards. We want everyone back to the arena by 4 PM\, where they will turn in their sheets and draw all their cards. We will be announcing the winning poker hands between five and 5:30 PM. Must be present to win. Unfortunately\, we won’t be offering free dinner at the end\, this year. However\, the Maple Pub will have food available for purchase at the arena. Entry fee will be $20 for single rider\, and $30 for a double. Food will be available to purchase when we get back. We will have raffle items\, and a 50-50 drawing after we get back. We also will have a 50 inch flatscreen LED TV that we’ll be raffling off for five dollars a ticket. We’ll pay out for the top five poker hands\, with top prize being $500.
URL:https://wisconsinmotorcycleroads.com/event/the-king-run-oshkosh/
END:VEVENT
BEGIN:VEVENT
DTSTART;TZID=America/Chicago:20180720T120000
DTEND;TZID=America/Chicago:20180722T120000
DTSTAMP:20260419T165829
CREATED:20180416T212910Z
LAST-MODIFIED:20180416T212910Z
UID:782-1532088000-1532260800@wisconsinmotorcycleroads.com
SUMMARY:38th Annual British Biker Cooperative - Motorcycle Rally and Show
DESCRIPTION:The British Biker Cooperative (BBC) has enthusiastically and very successfully promoted the rich heritage of the British motorcycle in the United States for over three decades. Their membership enjoy all facets of British motorcycling past and present through their active participation in motorcycle events throughout the United States and beyond. The BBC is most recognized for their annual Rally that has drawn thousands of motorcyclists over the years into the unique experience of British motorcycling in the United States.\nOn July 20-22\, 2018\, the BBC will celebrate their 38th Annual British Biker Cooperative – Motorcycle Rally and Show featuring the “Need for Speed” at Eagle Cave Natural Campground in Blue River\, Wisconsin. The event offers a weekend of activities including group rides and bike games\, a Motorcycle Show\, Friday night movie\, band Saturday night\, comfortable shaded camping with dedicated quiet areas\, and refreshments. An assortment of on-site amenities include a restaurant\, camp store\, showers\, and cave tours through Wisconsin’s largest commercial cave. The event formally kick-starts on Friday\, but the BBC encourages riders to arrive early to avoid the rush. The BBC Rally location is 60 miles due west of Madison\, Wisconsin near the Wisconsin River and features many area attractions including rides along the majestic Mississippi River\, Frank Lloyd Wright’s Spring Green\, and The House on the Rock.\nThis event offers a great opportunity to see both rare vintage and late model British motorcycles in action on some of the best riding roads in the Midwest. All motorcycle enthusiasts are welcome. \nFor additional Rally information visit our BBC web site at www.britishbiker.net or contact Peggy Kasper\nemail: kasper.peggy@gmail.com\nWEEKEND PASSES ONLY-NO DAY PASSES
URL:https://wisconsinmotorcycleroads.com/event/38th-annual-british-biker-cooperative-motorcycle-rally-and-show/
END:VEVENT
BEGIN:VEVENT
DTSTART;TZID=America/Chicago:20180721T090000
DTEND;TZID=America/Chicago:20180721T170000
DTSTAMP:20260419T165829
CREATED:20180428T013028Z
LAST-MODIFIED:20180428T013028Z
UID:814-1532163600-1532192400@wisconsinmotorcycleroads.com
SUMMARY:K-9 Fundraiser and Bike Run
DESCRIPTION:The second annual community event and bike run to raise money to help support Ashland police departments new K-9 unit “Chase.” Event will be held at Maslowski Beach in Ashland. All proceeds go to support the K-9 unit. There will be a silent auction\, door prizes\, food\, music and mini-bike rides. The Bay Area Car Club will also be present and sponsoring this event. The bike run registration begins at 9:00am at the cost of $20 per bike. The scenic ride leaves at 10:00am.
URL:https://wisconsinmotorcycleroads.com/event/k-9-fundraiser-and-bike-run/
END:VEVENT
BEGIN:VEVENT
DTSTART;TZID=America/Chicago:20180729T100000
DTEND;TZID=America/Chicago:20180729T213000
DTSTAMP:20260419T165829
CREATED:20180426T053558Z
LAST-MODIFIED:20180426T053558Z
UID:804-1532858400-1532899800@wisconsinmotorcycleroads.com
SUMMARY:WILEORC Law Enforcement Appreciation Day
DESCRIPTION:WILEORC is hosting the first annual Law Enforcement Appreciation Day at the beautiful Wales Community Park! The event will kick off with our annual escorted motorcycle ride at 10:00am. The park will open at noon and will feature a craft fair / flea market vendors\, food trucks\, and a kids play area. Live entertainment kicks off with rockin’ country legends Westfield at 2:30pm. Taking the stage at 6:00pm\, Wisconsin’s favorite rockers\, Cherry Pie! Fireworks provided by Freedom Fireworks. \nThis is a FREE family-friendly event! The motorcycle ride is $20 per driver\, $10 per passenger. \nWe are still looking for craft fair / flea market vendors! \nFor corporate sponsorship\, please contact John at john.fredericks@wileorc.org. \nDetails at http://www.wileorc.org/event/wileorc-law-enforcement-appreciation-day-and-motorcycle-ride/
URL:https://wisconsinmotorcycleroads.com/event/wileorc-law-enforcement-appreciation-day/
END:VEVENT
BEGIN:VEVENT
DTSTART;VALUE=DATE:20180802
DTEND;VALUE=DATE:20180806
DTSTAMP:20260419T165829
CREATED:20180309T042937Z
LAST-MODIFIED:20180309T042937Z
UID:761-1533168000-1533513599@wisconsinmotorcycleroads.com
SUMMARY:Pre-Sturgis Party - Camp NCN\, Black River Falls
DESCRIPTION:August 2-5\, 2018 – Pre-Sturgis Party \nOpen to Everyone & All Motorcycle Enthusiasts 18+ \n\nLive Band Saturday Night. More details to follow. \n(Camp NCN = Camp No Clothes Necessary\, 18+ Only\, See campncn.com for details.)
URL:https://wisconsinmotorcycleroads.com/event/pre-sturgis-party-camp-ncn-black-river-falls/
END:VEVENT
BEGIN:VEVENT
DTSTART;VALUE=DATE:20180809
DTEND;VALUE=DATE:20180813
DTSTAMP:20260419T165829
CREATED:20180309T043535Z
LAST-MODIFIED:20180309T043535Z
UID:763-1533772800-1534118399@wisconsinmotorcycleroads.com
SUMMARY:After Sturgis Gathering - Camp NCN\, Black River Falls
DESCRIPTION:Aug 9-12\, 2018 – After Sturgis Gathering\, Camp NCN \nLive Music Saturday Night \nThe Blind River Band will be back by popular demand. \n(Camp NCN = Camp No Clothes Necessary\, 18+ Only\, See campncn.com for details.)
URL:https://wisconsinmotorcycleroads.com/event/763/
END:VEVENT
BEGIN:VEVENT
DTSTART;TZID=America/Chicago:20180817T173000
DTEND;TZID=America/Chicago:20180818T173000
DTSTAMP:20260419T165829
CREATED:20180127T170133Z
LAST-MODIFIED:20180127T170133Z
UID:715-1534527000-1534613400@wisconsinmotorcycleroads.com
SUMMARY:18th Annual Ride to Remember Motorcycle Rally\, The Highground Neillsville
DESCRIPTION:
URL:https://wisconsinmotorcycleroads.com/event/18th-annual-ride-to-remember-motorcycle-rally-neillsville/
END:VEVENT
BEGIN:VEVENT
DTSTART;TZID=America/Chicago:20180818T100000
DTEND;TZID=America/Chicago:20180818T210000
DTSTAMP:20260419T165829
CREATED:20180428T012226Z
LAST-MODIFIED:20180428T012226Z
UID:815-1534586400-1534626000@wisconsinmotorcycleroads.com
SUMMARY:Summer Thunder Poker Run
DESCRIPTION:Summer Thunder Annual Poker Run Registration 10:00 – 11:30am Suburban Harley-Davidson in Thiensville.\nRide ends at Veterans Park Saukville Wi. Live music 4:30 – 8:30 food and beverages at park. All are welcome to come. Proceeds benefit Saukville Fire Dept Check us out at www.summerthunderpokerrun.com like us on facebook\nFor info Call Phil @ 262-675-9098 or e-mail pleasantvalleyautobody@yahoo.com Venders welcome\nSponsored by Pleasant Valley Auto Body / Holeshot Customs
URL:https://wisconsinmotorcycleroads.com/event/summer-thunder-poker-run/
END:VEVENT
BEGIN:VEVENT
DTSTART;TZID=America/Chicago:20180909T090000
DTEND;TZID=America/Chicago:20180909T180000
DTSTAMP:20260419T165829
CREATED:20180117T125333Z
LAST-MODIFIED:20180117T125333Z
UID:665-1536483600-1536516000@wisconsinmotorcycleroads.com
SUMMARY:Angels of the Road Ride for Veterans
DESCRIPTION:Angels of the Road Ride for Veterans \nThis is an non guided open ride raising money to support homeless Veterans and rehabilitation services and needs. The ride will start with registration and send off breakfast at the Henrizi Schneider American Legion Post 382 in Menomonee Falls\, WI (N88W16625 Main St). Riders will travel to participating American Legion Posts in Waukesha County to visit with Veterans. All riders will then return to Menomonee Falls for a wrap up celebration. There will be prize raffles through out the day. Preregistered participants will received a commemorative bandana.
URL:https://wisconsinmotorcycleroads.com/event/angels-of-the-road-ride-for-veterans/
END:VEVENT
BEGIN:VEVENT
DTSTART;VALUE=DATE:20190121
DTEND;VALUE=DATE:20190122
DTSTAMP:20260419T165829
CREATED:20190122T041427Z
LAST-MODIFIED:20190122T041427Z
UID:1013-1548028800-1548115199@wisconsinmotorcycleroads.com
SUMMARY:44th Annual Motorcycle Swap Meet - Wausau
DESCRIPTION:44th Annual Motorcycle Swap Meet – Wausau
URL:https://wisconsinmotorcycleroads.com/event/44th-annual-motorcycle-swap-meet-wausau/
END:VEVENT
BEGIN:VEVENT
DTSTART;TZID=America/Chicago:20190121T080000
DTEND;TZID=America/Chicago:20190121T170000
DTSTAMP:20260419T165829
CREATED:20190122T035156Z
LAST-MODIFIED:20190122T035156Z
UID:1003-1548057600-1548090000@wisconsinmotorcycleroads.com
SUMMARY:39th Annual British Biker Cooperative Motorcycle Rally & Show\, Blue River
DESCRIPTION:  \n\n\n39th Annual British Biker Cooperative Motorcycle Rally & Show\, Blue River
URL:https://wisconsinmotorcycleroads.com/event/39th-annual-british-biker-cooperative-blue-river/
END:VEVENT
BEGIN:VEVENT
DTSTART;VALUE=DATE:20190126
DTEND;VALUE=DATE:20190127
DTSTAMP:20260419T165829
CREATED:20190122T040342Z
LAST-MODIFIED:20190122T040342Z
UID:1008-1548460800-1548547199@wisconsinmotorcycleroads.com
SUMMARY:ABATE of WI Region 2A Brat Fry\, Plymouth
DESCRIPTION:  \n\n\nABATE of WI Region 2A Brat Fry\, Plymouth \nCash raffles\, bucket raffles\, live music\, great food\, and lots of biker stories! \nAll proceeds goes to ABATE of WI to fight for your (and our) biker freedoms. \nWe are all in this together!
URL:https://wisconsinmotorcycleroads.com/event/abate-of-wi-region-2a-brat-fry-plymouth/
END:VEVENT
BEGIN:VEVENT
DTSTART;TZID=America/Chicago:20190127T090000
DTEND;TZID=America/Chicago:20190127T160000
DTSTAMP:20260419T165829
CREATED:20181207T003825Z
LAST-MODIFIED:20181207T003825Z
UID:951-1548579600-1548604800@wisconsinmotorcycleroads.com
SUMMARY:Giant Motorcycle Swap Meet\, Green Bay
DESCRIPTION:Super Motorcycle Swap Meet. Riverside Ballroom. Main St. Green Bay\, Wisconsin. Our 41st year. Anything Motorcycle related. Parts & Accessories all makes. Leather goods & repairs. Great food\, Live music\, refreshments. Hourly free prize drawings. Good vendor spots still available.
URL:https://wisconsinmotorcycleroads.com/event/giant-motorcycle-swap-meet-green-bay/
END:VEVENT
BEGIN:VEVENT
DTSTART;TZID=America/Chicago:20190209T200000
DTEND;TZID=America/Chicago:20190209T200000
DTSTAMP:20260419T165829
CREATED:20190206T052356Z
LAST-MODIFIED:20190206T052356Z
UID:1046-1549742400-1549742400@wisconsinmotorcycleroads.com
SUMMARY:Magneto's Valentines Dance - Green Bay
DESCRIPTION:
URL:https://wisconsinmotorcycleroads.com/event/magnetos-valentines-dance-green-bay/
END:VEVENT
BEGIN:VEVENT
DTSTART;TZID=America/Chicago:20190214T170000
DTEND;TZID=America/Chicago:20190214T210000
DTSTAMP:20260419T165829
CREATED:20190213T224605Z
LAST-MODIFIED:20190213T224605Z
UID:1097-1550163600-1550178000@wisconsinmotorcycleroads.com
SUMMARY:Mama Tried Bike Night at the Harley-Davidson Museum\, Milwaukee
DESCRIPTION:Mama Tried Bike Night at the Harley-Davidson Museum \nIt’s Valentine’s Day\, let’s celebrate with our Shovelheads and Sweethearts. The world’s only Harley-Davidson Museum kicks off the Midwest’s preeminent motorcycle show weekend with an Official Mama Tried Pre-Party. It is going to be a 70’s Red Carpet Affair you don’t want to miss featuring Flat Out Friday Flat Track Racers and Mama Tried Motorcycle Show Builders taking place from 5-9 p.m. on Thursday\, February 14th inside and outside MOTOR® Bar & Restaurant. Check your closet for that perfect Boho Style outfit as it is a night for polyester and corduroy to come out. A Boonie Bike Showdown powered by Milwaukee Harley-Davidson will light up the track along with a mock jam by Milwaukee’s own Brewcity Bruisers Roller Derby. True Skool DJ\, a local Creative Arts Program\, will be curating the 70’s beats as we rock the night away next to the glow of warm firepits. Featuring Budweiser Bike Night Koozie special\, Third Space Brewing February Beer Specials and Stella Artois Chalice promo. Finally make the night memorable by photo ops\, games and the ultimate souvenir a couples tattoo (or solo) by Horseshoe Tattoo.
URL:https://wisconsinmotorcycleroads.com/event/mama-tried-bike-night-at-the-harley-davidson-museum-milwaukee/
END:VEVENT
BEGIN:VEVENT
DTSTART;VALUE=DATE:20190215
DTEND;VALUE=DATE:20190218
DTSTAMP:20260419T165829
CREATED:20181207T012027Z
LAST-MODIFIED:20181207T012027Z
UID:958-1550188800-1550447999@wisconsinmotorcycleroads.com
SUMMARY:Mama Tried Motorcycle Show\, Milwaukee
DESCRIPTION:Mama Tried Motorcycle Show is an indoor invitational showcasing honest\, homebuilt and unusual bikes from the Midwest. Mama Tried Motorcycle Show 2019 is February 16-17 at The Rave / Eagles Club in Milwaukee \, WI.
URL:https://wisconsinmotorcycleroads.com/event/mama-tried-motorcycle-show-milwaukee/
END:VEVENT
BEGIN:VEVENT
DTSTART;TZID=America/Chicago:20190216T130000
DTEND;TZID=America/Chicago:20190216T130000
DTSTAMP:20260419T165829
CREATED:20190206T063643Z
LAST-MODIFIED:20190206T063643Z
UID:1059-1550322000-1550322000@wisconsinmotorcycleroads.com
SUMMARY:ABATE 3A Chili Cook Off & Meat Raffle – Racer’s Rail\, Sobieski
DESCRIPTION:February 16 – ABATE 3A Chili Cook Off & Meat Raffle – Racer’s Rail\, Sobieski
URL:https://wisconsinmotorcycleroads.com/event/abate-3a-chili-cook-off-meat-raffle-racers-rail-sobieski/
END:VEVENT
BEGIN:VEVENT
DTSTART;TZID=America/Chicago:20190302T130000
DTEND;TZID=America/Chicago:20190302T130000
DTSTAMP:20260419T165829
CREATED:20190206T063948Z
LAST-MODIFIED:20190206T063948Z
UID:1062-1551531600-1551531600@wisconsinmotorcycleroads.com
SUMMARY:ABATE 3A 26th Annual Chili Cook Off & Meat Raffle – Amberg Pub\, Amberg
DESCRIPTION:ABATE 3A 26th Annual Chili Cook Off & Meat Raffle – Amberg Pub\, Amberg
URL:https://wisconsinmotorcycleroads.com/event/abate-3a-26th-annual-chili-cook-off-meat-raffle-amberg-pub-amberg/
END:VEVENT
BEGIN:VEVENT
DTSTART;TZID=America/Chicago:20190302T150000
DTEND;TZID=America/Chicago:20190302T190000
DTSTAMP:20260419T165829
CREATED:20190206T064309Z
LAST-MODIFIED:20190206T064309Z
UID:1065-1551538800-1551553200@wisconsinmotorcycleroads.com
SUMMARY:American Legion Riders Spaghetti Dinner & Raffles – Union Grove
DESCRIPTION:American Legion Riders Spaghetti Dinner & Raffles – Union Grove \nAwesome spaghetti dinner with raffles\, 50/50 drawings\, and more! Come out and support this Veterans non-profit organization! – The American Legion Riders\, District 1! We help Veterans causes right here in our local Wisconsin communities
URL:https://wisconsinmotorcycleroads.com/event/american-legion-riders-spaghetti-dinner-raffles-union-grove/
END:VEVENT
BEGIN:VEVENT
DTSTART;TZID=America/Chicago:20190317T090000
DTEND;TZID=America/Chicago:20190317T170000
DTSTAMP:20260419T165829
CREATED:20190203T163608Z
LAST-MODIFIED:20190203T163608Z
UID:1022-1552813200-1552842000@wisconsinmotorcycleroads.com
SUMMARY:Lucky's St. Paddy's Day Motorcycle Show & Swap Meet - Oshkosh
DESCRIPTION:Lucky’s St. Paddy’s Day Motorcycle Show & Swap Meet – Oshkosh. March 17\, 2019 \n \n$6 admission general public. $5 ABATE \, MC\, or Bike Org. $15 bike entry fee which includes show admission.
URL:https://wisconsinmotorcycleroads.com/event/luckys-st-paddys-day-motorcycle-show-swap-meet-oshkosh/
END:VEVENT
BEGIN:VEVENT
DTSTART;VALUE=DATE:20190330
DTEND;VALUE=DATE:20190331
DTSTAMP:20260419T165829
CREATED:20190203T173801Z
LAST-MODIFIED:20190203T173801Z
UID:1025-1553904000-1553990399@wisconsinmotorcycleroads.com
SUMMARY:April Fools Swap Meet - Plover
DESCRIPTION:  \n\n\n  \n \n 
URL:https://wisconsinmotorcycleroads.com/event/april-fools-swap-meet-plover/
END:VEVENT
BEGIN:VEVENT
DTSTART;TZID=America/Chicago:20190330T110000
DTEND;TZID=America/Chicago:20190330T180000
DTSTAMP:20260419T165829
CREATED:20190212T213910Z
LAST-MODIFIED:20190212T213910Z
UID:1083-1553943600-1553968800@wisconsinmotorcycleroads.com
SUMMARY:Triple C Riders Putt Putt Vroom Vroom Indoor Mini Golf Tournament - Marinette/Peshtigo
DESCRIPTION:
URL:https://wisconsinmotorcycleroads.com/event/triple-c-riders-putt-putt-vroom-vroom-indoor-mini-golf-tournament/
END:VEVENT
BEGIN:VEVENT
DTSTART;TZID=America/Chicago:20190427T100000
DTEND;TZID=America/Chicago:20190428T150000
DTSTAMP:20260419T165829
CREATED:20190116T040300Z
LAST-MODIFIED:20190116T040300Z
UID:984-1556359200-1556463600@wisconsinmotorcycleroads.com
SUMMARY:Blackhawk BMW 34th Annual Motorcycle Flea Market/MotoExpo - Pecatonica\, IL
DESCRIPTION:Blackhawk BMW 34th Annual Motorcycle Flea Market/MotoExpo – Pecatonica\, IL \n2019-04-27 to 2019-04-28\n34th annual! Calling all motorcycle enthusiasts\, motorcycle and accessory dealers\, vendors\, and private sellers! Huge indoor Motorcycle Flea Market and MotoExpo\, open both Saturday afternoon and Sunday! We welcome\, as always\, our BMW community and\, starting this year\, invite all European and Japanese brands to join us. Vendors\, register early and get a free listing on our Website. Private sellers\, rent a vendor space or sell your items on consignment at our club booth. Located at Winnebago County Fairgrounds\, Pecatonica\, IL\, 10 miles west of Rockford and 1 mile north of US20.
URL:https://wisconsinmotorcycleroads.com/event/blackhawk-bmw-34th-annual-motorcycle-flea-market-motoexpo-pecatonica-il/
END:VEVENT
BEGIN:VEVENT
DTSTART;TZID=America/Chicago:20190518T100000
DTEND;TZID=America/Chicago:20190518T150000
DTSTAMP:20260419T165829
CREATED:20190505T213809Z
LAST-MODIFIED:20190505T213809Z
UID:1288-1558173600-1558191600@wisconsinmotorcycleroads.com
SUMMARY:The Bike Blessing Event - Fond du Lac
DESCRIPTION:The Bike Blessing Event – Fond du Lac \nLighthouse Christian Church\nFond du Lac\, WI\n10:00 – Biker blessing\n11:00 – Ride\n12:30 – Lunch\n2:00 – Real Encounter Stunt Show\nEverything is free for the bikers and we are looking forward to a great time!\nFor more info:\nhttps://www.facebook.com/lccshineon\nClick on the “Events” page
URL:https://wisconsinmotorcycleroads.com/event/the-bike-blessing-event-fond-du-lac/
END:VEVENT
BEGIN:VEVENT
DTSTART;TZID=America/Chicago:20190519T090000
DTEND;TZID=America/Chicago:20190519T121500
DTSTAMP:20260419T165829
CREATED:20190306T012659Z
LAST-MODIFIED:20190306T012659Z
UID:1107-1558256400-1558268100@wisconsinmotorcycleroads.com
SUMMARY:20th Annual Fox Valley HOG Ride to Benefit the Veterans at King - Appleton
DESCRIPTION:For the last 20 years the Fox Valley HOG group has hosted a benefit ride to the Veterans home in King Wisconsin. We collect personal items and raise money for items they need to make their lives a little better. In fact\, all the monies we raise go to benefit the Veterans at King. The Chapter and dealership has donated its time and money for anything that was needed to facilitate the event. The Veterans really look forward to us coming.\nPlease join us Sunday May 19th 2019 rain or shine\, 2 or 4 wheels (2 preferred)\, see below for details. Please RSVP to tell us your coming\, and show your commitment to our Veterans.\nStaging Location: Appleton Harley-Davidson\nAddress: 5322 W Clairemont Dr. Appleton WI.\nRegistration: 9:30am\nPre-Ride Meeting: 10:30am\nLeave Dealership: 11am\nFor more info. and pre-registration visit: www.foxvalleywihog.org
URL:https://wisconsinmotorcycleroads.com/event/20th-annual-ride-to-benefit-the-veterans-at-king-appleton/
END:VEVENT
END:VCALENDAR