BEGIN:VCALENDAR
VERSION:2.0
PRODID:-//Wisconsin Motorcycle Roads Travel Guide - ECPv6.15.18//NONSGML v1.0//EN
CALSCALE:GREGORIAN
METHOD:PUBLISH
X-ORIGINAL-URL:https://wisconsinmotorcycleroads.com
X-WR-CALDESC:Events for Wisconsin Motorcycle Roads Travel Guide
REFRESH-INTERVAL;VALUE=DURATION:PT1H
X-Robots-Tag:noindex
X-PUBLISHED-TTL:PT1H
BEGIN:VTIMEZONE
TZID:America/Chicago
BEGIN:DAYLIGHT
TZOFFSETFROM:-0600
TZOFFSETTO:-0500
TZNAME:CDT
DTSTART:20230312T080000
END:DAYLIGHT
BEGIN:STANDARD
TZOFFSETFROM:-0500
TZOFFSETTO:-0600
TZNAME:CST
DTSTART:20231105T070000
END:STANDARD
BEGIN:DAYLIGHT
TZOFFSETFROM:-0600
TZOFFSETTO:-0500
TZNAME:CDT
DTSTART:20240310T080000
END:DAYLIGHT
BEGIN:STANDARD
TZOFFSETFROM:-0500
TZOFFSETTO:-0600
TZNAME:CST
DTSTART:20241103T070000
END:STANDARD
BEGIN:DAYLIGHT
TZOFFSETFROM:-0600
TZOFFSETTO:-0500
TZNAME:CDT
DTSTART:20250309T080000
END:DAYLIGHT
BEGIN:STANDARD
TZOFFSETFROM:-0500
TZOFFSETTO:-0600
TZNAME:CST
DTSTART:20251102T070000
END:STANDARD
END:VTIMEZONE
BEGIN:VEVENT
DTSTART;TZID=America/Chicago:20240817T090000
DTEND;TZID=America/Chicago:20240817T170000
DTSTAMP:20260423T063934
CREATED:20240330T163407Z
LAST-MODIFIED:20240330T165416Z
UID:2356-1723885200-1723914000@wisconsinmotorcycleroads.com
SUMMARY:24th Annual Ride to Remember - Neillsville
DESCRIPTION:The Highground’s Annual Ride to Remember® pays tribute to our Veterans\, POWs\, KIAs\, and MIAs. Every third weekend in August\, dedicated motorcycle enthusiasts gather to support the organization’s continuing mission to honor\, educate and heal our Veterans\, families and all who visit. \nThe entry fee is $25 per rider or $45 for a rider with passenger and includes a rocker or patch and lunch. \nRegistration begins at 9:00am at the American Legion in Neillsville (6 Boon Blvd\, Neillsville\, WI 54456). \nThe event includes three scenic rides led by experienced motorcyclists. Highlights of the event include vendors\, a huge raffle and live music from 10:30am–1pm at the American Legion. A procession to The Highground will leave the Legion around 2:45pm. A short ceremony follows on The Highground Plaza.
URL:https://wisconsinmotorcycleroads.com/event/24th-annual-ride-to-remember-neillsville/
END:VEVENT
END:VCALENDAR