BEGIN:VCALENDAR
VERSION:2.0
PRODID:-//Wisconsin Motorcycle Roads Travel Guide - ECPv6.15.18//NONSGML v1.0//EN
CALSCALE:GREGORIAN
METHOD:PUBLISH
X-WR-CALNAME:Wisconsin Motorcycle Roads Travel Guide
X-ORIGINAL-URL:https://wisconsinmotorcycleroads.com
X-WR-CALDESC:Events for Wisconsin Motorcycle Roads Travel Guide
REFRESH-INTERVAL;VALUE=DURATION:PT1H
X-Robots-Tag:noindex
X-PUBLISHED-TTL:PT1H
BEGIN:VTIMEZONE
TZID:America/Chicago
BEGIN:DAYLIGHT
TZOFFSETFROM:-0600
TZOFFSETTO:-0500
TZNAME:CDT
DTSTART:20190310T080000
END:DAYLIGHT
BEGIN:STANDARD
TZOFFSETFROM:-0500
TZOFFSETTO:-0600
TZNAME:CST
DTSTART:20191103T070000
END:STANDARD
BEGIN:DAYLIGHT
TZOFFSETFROM:-0600
TZOFFSETTO:-0500
TZNAME:CDT
DTSTART:20200308T080000
END:DAYLIGHT
BEGIN:STANDARD
TZOFFSETFROM:-0500
TZOFFSETTO:-0600
TZNAME:CST
DTSTART:20201101T070000
END:STANDARD
BEGIN:DAYLIGHT
TZOFFSETFROM:-0600
TZOFFSETTO:-0500
TZNAME:CDT
DTSTART:20210314T080000
END:DAYLIGHT
BEGIN:STANDARD
TZOFFSETFROM:-0500
TZOFFSETTO:-0600
TZNAME:CST
DTSTART:20211107T070000
END:STANDARD
BEGIN:DAYLIGHT
TZOFFSETFROM:-0600
TZOFFSETTO:-0500
TZNAME:CDT
DTSTART:20220313T080000
END:DAYLIGHT
BEGIN:STANDARD
TZOFFSETFROM:-0500
TZOFFSETTO:-0600
TZNAME:CST
DTSTART:20221106T070000
END:STANDARD
BEGIN:DAYLIGHT
TZOFFSETFROM:-0600
TZOFFSETTO:-0500
TZNAME:CDT
DTSTART:20230312T080000
END:DAYLIGHT
BEGIN:STANDARD
TZOFFSETFROM:-0500
TZOFFSETTO:-0600
TZNAME:CST
DTSTART:20231105T070000
END:STANDARD
BEGIN:DAYLIGHT
TZOFFSETFROM:-0600
TZOFFSETTO:-0500
TZNAME:CDT
DTSTART:20240310T080000
END:DAYLIGHT
BEGIN:STANDARD
TZOFFSETFROM:-0500
TZOFFSETTO:-0600
TZNAME:CST
DTSTART:20241103T070000
END:STANDARD
END:VTIMEZONE
BEGIN:VEVENT
DTSTART;TZID=America/Chicago:20230914T000000
DTEND;TZID=America/Chicago:20230917T000000
DTSTAMP:20260421T033238
CREATED:20230726T112017Z
LAST-MODIFIED:20230726T112017Z
UID:2313-1694649600-1694908800@wisconsinmotorcycleroads.com
SUMMARY:Northwoods Fall Ride
DESCRIPTION:For more than four decades\, tens of thousands of motorcyclists have visited Tomahawk\, WI in mid-September. Be here for four days of events including group rides\, a bonfire and brat fry\, Thunder Parade\, live music and Main Street Dances\, Harley-Davidson demos and a Bike Show at SARA Park\, food\, vendors\, and lots more!
URL:https://wisconsinmotorcycleroads.com/event/northwoods-fall-ride/
END:VEVENT
BEGIN:VEVENT
DTSTART;TZID=America/Chicago:20230812T000000
DTEND;TZID=America/Chicago:20230812T000000
DTSTAMP:20260421T033238
CREATED:20230505T111640Z
LAST-MODIFIED:20230505T111640Z
UID:2186-1691798400-1691798400@wisconsinmotorcycleroads.com
SUMMARY:A Ride to Advocate\, Little Suamico
DESCRIPTION:OTHER GUYS LAW ENFORCEMENT MOTORCYCLE CLUB \n9th Annual: A Ride To Advocate Offering support to Willow Tree Cornerstone CAC & the Sexual Assault Center of NE WI \nSATURDAY AUGUST 12TH\, 2023 \nWouters’ Sports Bar and Grill 1360 W. Frontier Road Little Suamico\, WI\n100 + mile ride w/one stop\n$25 per motor vehicle (All 2\, 3\, and 4 Wheel Motorcycles and vehicles Welcome)\nRegistration on the day of includes 1 ticket per vehicle for the “riders’ only raffle”\nRegistrations received by 8-6-2023 will get 2 tickets per vehicle for the “riders’ only raffle” The Riders Only Prizes will be given away at the one stop on the ride. Need to be present to win. NO TICKETS WILL BE SOLD!
URL:https://wisconsinmotorcycleroads.com/event/a-ride-to-advocate-little-suamico/
END:VEVENT
BEGIN:VEVENT
DTSTART;TZID=America/Chicago:20230812T000000
DTEND;TZID=America/Chicago:20230812T000000
DTSTAMP:20260421T033238
CREATED:20230505T105852Z
LAST-MODIFIED:20230505T105911Z
UID:2198-1691798400-1691798400@wisconsinmotorcycleroads.com
SUMMARY:American Legion Riders District 7 Legacy Run\, Onalaska
DESCRIPTION:We are riding to support American Legion programs\, such as the American Legion Legacy Scholarship Fund\, Camp American Legion\, Freedom Honor Flight\, Operation Comfort Warrior and many others. Starting at Great River Harley Davidson\, 1116 Oak Forest Dr\, Onalaska\, WI\, we will ride some of the more scenic roads in the Coulee Region\, ending at Sparta American Legion Post 100. We will have event t-shirts\, ride patches and a swag bag for each registered participant. \nRegistration opens at 9:00AM\, kickstands up at 11:00AM. \nWe will have food available for purchase at our final destination.
URL:https://wisconsinmotorcycleroads.com/event/american-legion-riders-district-7-legacy-run/
END:VEVENT
BEGIN:VEVENT
DTSTART;TZID=America/Chicago:20230805T000000
DTEND;TZID=America/Chicago:20230805T000000
DTSTAMP:20260421T033238
CREATED:20230505T110620Z
LAST-MODIFIED:20230505T110620Z
UID:2190-1691193600-1691193600@wisconsinmotorcycleroads.com
SUMMARY:Final Year - Riah’s Ride for Childhood Cancer\, Green Bay
DESCRIPTION:Annual motorcycle ride supporting childhood cancer. Starts and ends at Chambers Hill Bar in Green Bay.
URL:https://wisconsinmotorcycleroads.com/event/final-year-riahs-ride-for-childhood-cancer-green-bay/
END:VEVENT
BEGIN:VEVENT
DTSTART;TZID=America/Chicago:20230729T000000
DTEND;TZID=America/Chicago:20230729T000000
DTSTAMP:20260421T033238
CREATED:20230505T110720Z
LAST-MODIFIED:20230505T110720Z
UID:2194-1690588800-1690588800@wisconsinmotorcycleroads.com
SUMMARY:The King Run\, King
DESCRIPTION:Back to the Pavement!\nWe’re excited for this year’s run. We are planning a guided group ride with stops and tons of raffles and prizes! Remember the killer ride and guests in 2019??? We are back\, and we’re gonna rock this in 2023!\nAll vehicles welcome!\nNeed not be present to win.\nRain or Shine.\nAll proceeds to to our heroes at The King Veterans Home in King\, WI.\n8am-930am Registration at Lucky Dogz\, 157 S Green Bay Rd\, Neenah\, WI 54956\n945am – Bike Blessing by Tommy Bongers\, Bikers for Christ\n10am – Kickstands up\n5pm – Anticipated return to Lucky Dogz. Dinner upon arrival.\n6pm – Raffles drawn\n7pm – Live Music from Minus One
URL:https://wisconsinmotorcycleroads.com/event/the-king-run-king/
END:VEVENT
BEGIN:VEVENT
DTSTART;TZID=America/Chicago:20230722T090000
DTEND;TZID=America/Chicago:20230722T160000
DTSTAMP:20260421T033238
CREATED:20230505T111212Z
LAST-MODIFIED:20230505T111212Z
UID:2188-1690016400-1690041600@wisconsinmotorcycleroads.com
SUMMARY:Veteran Suicide Awareness Ride\, Wrightstown
DESCRIPTION:Ride to raise awareness for veteran suicide. Starting in Wrightstown.
URL:https://wisconsinmotorcycleroads.com/event/veteran-suicide-awareness-ride-wrightstown/
END:VEVENT
BEGIN:VEVENT
DTSTART;TZID=America/Chicago:20230714T113000
DTEND;TZID=America/Chicago:20230715T230000
DTSTAMP:20260421T033238
CREATED:20230612T115947Z
LAST-MODIFIED:20230612T115947Z
UID:2299-1689334200-1689462000@wisconsinmotorcycleroads.com
SUMMARY:Rally At The Ranch - Jackass Saloon\, Kettle Morraine
DESCRIPTION:Biker Rally at the Kettle Moraine Ranch\n2 Days Of Live Music\nFood Trucks\nVendors\nWagon Rides\nBonfire\nRaffle\nWE are also donating a percentage of proceeds to “Operation Wild Horse” an R&R Veteran Organization.
URL:https://wisconsinmotorcycleroads.com/event/rally-at-the-ranch-jackass-saloon-kettle-morraine/
END:VEVENT
BEGIN:VEVENT
DTSTART;TZID=America/Chicago:20230708T000000
DTEND;TZID=America/Chicago:20230708T000000
DTSTAMP:20260421T033238
CREATED:20230505T110521Z
LAST-MODIFIED:20230505T110521Z
UID:2195-1688774400-1688774400@wisconsinmotorcycleroads.com
SUMMARY:Wags n Wheels\, Monroe
DESCRIPTION:5th Annual Wags n Wheels ride for Green County Humane Society! Stands up at 11.am from Bennett’s Junction House in Monroe. Registration begins at 10am. Join us for a beautiful ride with 50/50 raffles and 100% of proceeds go to GCHS!
URL:https://wisconsinmotorcycleroads.com/event/wags-n-wheels-monroe/
END:VEVENT
BEGIN:VEVENT
DTSTART;TZID=America/Chicago:20230624T000000
DTEND;TZID=America/Chicago:20230624T000000
DTSTAMP:20260421T033238
CREATED:20230505T110035Z
LAST-MODIFIED:20230505T110127Z
UID:2197-1687564800-1687564800@wisconsinmotorcycleroads.com
SUMMARY:Twisted Throttle Throwdown 2nd Annual GOC Fundraiser\, Harshaw
DESCRIPTION:Fundraiser for the Guardians of the Children Northern Lights Chapter held at Bonnie and Clyde’s Gangster Park in Harshaw\, Wisconsin June 24th. Gates open at 11:00 food alcohol music till close…
URL:https://wisconsinmotorcycleroads.com/event/twisted-throttle-throwdown-2nd-annual-goc-fundraiser-harshaw/
END:VEVENT
BEGIN:VEVENT
DTSTART;TZID=America/Chicago:20230618T120000
DTEND;TZID=America/Chicago:20230618T160000
DTSTAMP:20260421T033238
CREATED:20230426T121022Z
LAST-MODIFIED:20230426T121401Z
UID:2169-1687089600-1687104000@wisconsinmotorcycleroads.com
SUMMARY:Annual Father's Day Motorcycle Hillclimb - Kewaskum
DESCRIPTION:Annual Father’s Day Motorcycle Hillclimb – Kewaskum \nSunday\, June 18th. Noon – 4 \nAnnual motorcycle hillclimb at Sunburst Ski Area in Kewaskum WI\, sponsored by the Kettle Moraine Sport Riders M/C. Bring dad out for a day of fun watching racers from kids to pros take on Sunburst’s steepest hill. First bike goes up the hill at noon (or tries at least!).  Fun for the whole family!
URL:https://wisconsinmotorcycleroads.com/event/annual-fathers-day-motorcycle-hillclimb-kewaskum/
END:VEVENT
BEGIN:VEVENT
DTSTART;TZID=America/Chicago:20230617T110000
DTEND;TZID=America/Chicago:20230617T110000
DTSTAMP:20260421T033238
CREATED:20230505T110419Z
LAST-MODIFIED:20230612T121015Z
UID:2196-1686999600-1686999600@wisconsinmotorcycleroads.com
SUMMARY:GOC 8th Annual Ride\, Mauston
DESCRIPTION:Reel Brothers Harley Davidson Mauston WI\nKickstands up at 11am\nEnding at Point Bluff Resort \nend of ride-food – raffles-music
URL:https://wisconsinmotorcycleroads.com/event/goc-8th-annual-ride-mauston/
END:VEVENT
BEGIN:VEVENT
DTSTART;TZID=America/Chicago:20230610T000000
DTEND;TZID=America/Chicago:20230610T000000
DTSTAMP:20260421T033238
CREATED:20230505T111454Z
LAST-MODIFIED:20230505T111454Z
UID:2187-1686355200-1686355200@wisconsinmotorcycleroads.com
SUMMARY:Man of Honor Society  Honor Ride\, Wausau
DESCRIPTION:Ride benefits The Man of Honor Society that helps Veterans in need.\nRegistration starts a 9:00 kickstands up at 11:00\nWausau WI
URL:https://wisconsinmotorcycleroads.com/event/man-of-honor-society-honor-ride-wausau/
END:VEVENT
BEGIN:VEVENT
DTSTART;TZID=America/Chicago:20230529T000000
DTEND;TZID=America/Chicago:20230529T000000
DTSTAMP:20260421T033238
CREATED:20230505T105701Z
LAST-MODIFIED:20230505T105701Z
UID:2199-1685318400-1685318400@wisconsinmotorcycleroads.com
SUMMARY:13th Annual Honor Ride for The Highground- 8 Locations
DESCRIPTION:The Honor Ride event is set to begin in 8 different locations as early as 6:30 am with motorcyclists\, consisting of Veterans and supporters\, beginning their journey of remembrance in Eau Claire\, Neillsville\, Appleton\, Reedsburg\, Richland Center\, Minocqua\, Wausau\, and Onalaska. Each route is led by experienced leaders and will follow scenic roads to the Neillsville American Legion Post #73. \nRiders are welcome to join the route at any of the scheduled stops listed on the website www.thehighgroundhonorride.com . From the Neillsville American Legion\, the routes will ride together through Neillsville in commemoration of Memorial Day. \nAs a part of the Honor Ride fundraiser\, there will be a basket raffle with opportunities to participate at the American Legion and The Highground until the drawing at 2:30 pm. The American Legion Post #73 will have their Veterans brat/burger cookout throughout the day and is free to Veterans.
URL:https://wisconsinmotorcycleroads.com/event/13th-annual-honor-ride-for-the-highground-8-locations/
END:VEVENT
BEGIN:VEVENT
DTSTART;VALUE=DATE:20220912
DTEND;VALUE=DATE:20220919
DTSTAMP:20260421T033238
CREATED:20210226T024945Z
LAST-MODIFIED:20220416T132023Z
UID:1869-1662940800-1663545599@wisconsinmotorcycleroads.com
SUMMARY:Tomahawk Fall Ride 2022 - BUBBA'S BIG PARTY
DESCRIPTION:From http://tomahawkfallride.com/schedule.cfm \nMonday Early Bird ~ FREE Food & Bonfire (Full Week Pass) \nTBD ~ 5:00pm to 9:00pm \nTuesday Early Bird ~ FREE Food & Bonfire (Full Week Pass) \nTBD ~ 5:00pm to 9:00pm \nWednesday Early Bird ~ FREE Beer & Bonfire (Full Week Pass) \nTBD ~ 7:00pm to 11:00pm \nThursday Early Bird ~ FREE Beer & Bonfire (Full Week Pass) \nTBD ~ 7:00pm to 11:00pm \nFriday ~ FREE to Public \nPancake Breakfast at Fire Department ~ 7:00am-11:00am\nChurch Service ~ 9:30am\nFood & Merchandise Vending ~ 10:00am-Close\nTBD ~ 11am-3:30pm\nTBD ~ 4:00pm-7:00pm\nTBD ~ 7:00pm-10:00pm\nCostume Contest ~ 10:00pm-10:30pm\nTBD ~ 10:30pm-Close \nSaturday ~ $10 Admission (16 and under FREE) \nPancake Breakfast at Fire Department ~ 7:00am-11:00am\nChurch Service ~ 9:30am\nCar\, Truck\, & Bike Show ~ FREE Registration 9:00am-11:00am\nFood & Merchandise Vending ~ 10:00am-Close\nLawn Mower & Bar Stool Races ~ Noon-5:00pm\nMud Bog Races ~ Noon-5:00pm\nBurnout Contest ~ 3:00pm\nTBD ~ 11:00am-2:00pm\nTBD ~ 2:30pm-5:30pm\nTBD ~ 5:30pm-8:30pm\nTBD~ 8:30pm-11:30pm\nBiker Butt Contest ~ 11:30pm-Midnight \nEntertainment is subject to change and if a portion of the show must be canceled\ndue to circumstances beyond our control\, NO REFUNDS will be made for any reason.
URL:https://wisconsinmotorcycleroads.com/event/tomahawk-fall-ride-2021-bubbas-big-party/
END:VEVENT
BEGIN:VEVENT
DTSTART;VALUE=DATE:20220806
DTEND;VALUE=DATE:20220807
DTSTAMP:20260421T033238
CREATED:20220403T135529Z
LAST-MODIFIED:20220403T135607Z
UID:2071-1659744000-1659830399@wisconsinmotorcycleroads.com
SUMMARY:Stilettos Ride for ALS - Rothschild
DESCRIPTION:Annual Stilettos Ride for ALS! Saturday\, August 6th \nRide to honor Miss Debbie & Miss Carole. \nJoin us for a beautiful ride around Central Wisconsin\, stopping the following businesses: \nBahamas Lounge (Steven’s Point)\nThe Pour House (Lunch Stop – WI Rapids)\nRudolph Grotto (Gas Station nearby – Rudolph)\n51 Bar & Grill (After ride entertainment\, food\, drinks\, raffles and 50/50 drawing) \n—-‐———————————————————————— \nRegistration 9:00 – 10:45am\nBull Falls Harley Davidson\n1570 County Rd XX\nRothschild\, WI 54474 \nDriver $25\nPassenger $15 \nDriver’s Meeting 10:45am\nKickstands up 11am \n‐—-‐———————————————————————– \nNeed a hotel? \nWe have a block of rooms again at\nHoliday Inn & Suites \nBlock Code: ALS \nPhone Number 715-355-1111 \nhttps://www.ihg.com/holidayinn/hotels/us/en/rothschild/wauwi/hoteldetail?cm_mmc=GoogleMaps-_-HI-_-US-_-WAUWI \nCutoff date: 7/5/2022 \nRate: $119.00 per night + tax\n—————————————————————————– \nAfter the ride\, join us at 51 Bar & Grill for raffles\, drinks\, food and music from BLINDSIDE!
URL:https://wisconsinmotorcycleroads.com/event/stilettos-ride-for-als-rothschild/
END:VEVENT
BEGIN:VEVENT
DTSTART;VALUE=DATE:20220715
DTEND;VALUE=DATE:20220718
DTSTAMP:20260421T033238
CREATED:20220310T120902Z
LAST-MODIFIED:20220310T121059Z
UID:2060-1657843200-1658102399@wisconsinmotorcycleroads.com
SUMMARY:41st Annual BBC Motorcycle Rally & Show\, Blue River
DESCRIPTION:
URL:https://wisconsinmotorcycleroads.com/event/41st-annual-bbc-motorcycle-rally-show-blue-river/
END:VEVENT
BEGIN:VEVENT
DTSTART;TZID=America/Chicago:20220623T000000
DTEND;TZID=America/Chicago:20220626T000000
DTSTAMP:20260421T033238
CREATED:20220403T133503Z
LAST-MODIFIED:20220403T133503Z
UID:2072-1655942400-1656201600@wisconsinmotorcycleroads.com
SUMMARY:Iroc's Badger Run - Starts in Sheboygan
DESCRIPTION:Iroc’s Badger Run welcomes all motorcyclists for a 3-day fund raising adventure through Wisconsin. 100% of all donations will be given to The Highground in Neillsville\, WI for the “Highground Rising Project”. The Highground is a fantastic veterans memorial park that serves thousands of veterans\, their families and the general public each and every year. Join us for a wonderful cause and enjoy some of Wisconsin’s best motorcycling roads!
URL:https://wisconsinmotorcycleroads.com/event/irocs-badger-run-starts-in-sheboygan/
END:VEVENT
BEGIN:VEVENT
DTSTART;TZID=America/Chicago:20220604T100000
DTEND;TZID=America/Chicago:20220604T100000
DTSTAMP:20260421T033238
CREATED:20220416T130254Z
LAST-MODIFIED:20220416T130254Z
UID:2079-1654336800-1654336800@wisconsinmotorcycleroads.com
SUMMARY:Northwoods Blessing of the Bikes\, Arbor Vitae
DESCRIPTION:Kick off the Riding Season\nwith a Blessing \nAll Bikes Welcome \nSponsored by Northwoods Harley Davidson & Northern Lights HOG Chapter \nWhen: Saturday June 4th with the blessing at 10am \nWhere: Northwoods Harley Davidson\n1700 US-51 ARBOR VITAE\, WI 54568
URL:https://wisconsinmotorcycleroads.com/event/northwoods-blessing-of-the-bikes-arbor-vitae/
END:VEVENT
BEGIN:VEVENT
DTSTART;TZID=America/Chicago:20220507T000000
DTEND;TZID=America/Chicago:20220507T210000
DTSTAMP:20260421T033238
CREATED:20220202T000944Z
LAST-MODIFIED:20220202T001133Z
UID:2046-1651881600-1651957200@wisconsinmotorcycleroads.com
SUMMARY:BikerFest Block Party\, Milwaukee
DESCRIPTION:SATURDAY\, MAY 7\, 2022 AT 12 PM – 9 PM \nBikerFest Block Party invites the community to come out and experience the bike life! Inhale the smell of motor oil\, burning rubber\, watch crazy stunt shows\, join or observe the mini bike races. Witness the insane skill and creativity displayed on custom motorcycles. Get information on motorcycle courses and much more. \nBikerFest Block Party creates an opportunity to help bikers be seen as #PeopleTwo\, an initiative\, that helps save lives by opening the lines of communication through interactivity\, education and engagement. \nThis is a family fun filled and entertaining way to express that message while breaking barriers for a mutual change.\nLet’s do this safely!\n• Do not come to BikerFest if you’re sick\, have flu-like symptoms or have been exposed to COVID-19.\n• Face masks are recommended\n• Keep your distance by standing 6’ apart from others\n#PeopleTwo\n#BikerFest\n#BikerFestBlockParty\n#BikerFestBlockPartyMKE\n#BlockParty\n#Milwaukee\n#WISCONSINBIKERS
URL:https://wisconsinmotorcycleroads.com/event/bikerfest-block-party-milwaukee-2/
LOCATION:Fondy Farmer’s Market\, 2200 W Fond Du Lac Ave\, Milwaukee\, WI\, 53206\, United States
END:VEVENT
BEGIN:VEVENT
DTSTART;TZID=America/Chicago:20220206T090000
DTEND;TZID=America/Chicago:20220206T160000
DTSTAMP:20260421T033238
CREATED:20220104T024057Z
LAST-MODIFIED:20220104T024057Z
UID:2024-1644138000-1644163200@wisconsinmotorcycleroads.com
SUMMARY:Swap Meet at Riverside Ballroom
DESCRIPTION:
URL:https://wisconsinmotorcycleroads.com/event/swap-meet-at-riverside-ballroom/
END:VEVENT
BEGIN:VEVENT
DTSTART;TZID=America/Chicago:20220115T120000
DTEND;TZID=America/Chicago:20220115T190000
DTSTAMP:20260421T033238
CREATED:20220107T022452Z
LAST-MODIFIED:20220107T022452Z
UID:2029-1642248000-1642273200@wisconsinmotorcycleroads.com
SUMMARY:ABATE 3A TRAVELING MEAT RAFFLE - Sobieski\, WI
DESCRIPTION:ABATE 3A TRAVELING MEAT RAFFLE\n\nThe Sobieski Strip Cty S Sobieski\, WI\nOne Hour stop at each establishment\n12 Noon – North Chase Bar & Grill\n1:30PM – Old Crow Bar & Grill\n3:00 PM – Kroll’s Bar\n4:30 PM – Twisted Family\n6 PM – Wouter’s Sports Bar & Grill \n50/50’S AT EACH STOP!\nFUN RUN -$5 Fun Run Entry Fee (No Limit) One ticket will be entered in drawing per stamped stop. Fun Run sheets need to be turned in between 6 & 7PM with prizes to be drawn at Wouter’s Sports Bar & Grill @ 7PM
URL:https://wisconsinmotorcycleroads.com/event/abate-3a-traveling-meat-raffle-sobieski-wi/
END:VEVENT
BEGIN:VEVENT
DTSTART;TZID=America/Chicago:20210828T103000
DTEND;TZID=America/Chicago:20210828T235900
DTSTAMP:20260421T033238
CREATED:20210226T025438Z
LAST-MODIFIED:20210226T025438Z
UID:1866-1630146600-1630195140@wisconsinmotorcycleroads.com
SUMMARY:Coronapalooza - Afton
DESCRIPTION:Coronapalooza \nStarts at The Table in Afton Wisconsin\, and ends there\, 8 bands\, vendors\, gift basket raffles\, 50/50\, food trucks ~ all to raise money for Rock County food pantries.
URL:https://wisconsinmotorcycleroads.com/event/coronapalooza-afton/
END:VEVENT
BEGIN:VEVENT
DTSTART;TZID=America/Chicago:20210828T080000
DTEND;TZID=America/Chicago:20210828T150000
DTSTAMP:20260421T033238
CREATED:20210719T011128Z
LAST-MODIFIED:20210719T011128Z
UID:1910-1630137600-1630162800@wisconsinmotorcycleroads.com
SUMMARY:Richfield Days Motorcycle Ride
DESCRIPTION:Richfield Days Motorcycle Ride ~ 8/28\n \nJoin us for our first ever Richfield Days Motorcycle Ride as we tour the village and surrounding area and visit several supporting establishments. \nRegistration begins at 8am\nKickstands up at 11am \nStart and Finish at Fireman’s Park\, 2008 Hwy 175\, Richfield\, WI 53076\nPost-ride: Prizes\, Live Music\, Fireworks\, Comedy Sportz\, Food and Drinks \nRegistration Fees $20 / Rider\, $10 / Passenger\nProceeds Benefit the Richfield Volunteer Fire Company
URL:https://wisconsinmotorcycleroads.com/event/richfield-days-motorcycle-ride/
END:VEVENT
BEGIN:VEVENT
DTSTART;TZID=America/Chicago:20210814T090000
DTEND;TZID=America/Chicago:20210814T220000
DTSTAMP:20260421T033238
CREATED:20210719T012234Z
LAST-MODIFIED:20210719T012234Z
UID:1888-1628931600-1628978400@wisconsinmotorcycleroads.com
SUMMARY:KoshRock Poker Run to benefit Hogs for Heroes - Edgerton
DESCRIPTION:KoshRock Poker Run ~ 8/14\n \nRain or shine…cruise around Lake Koshkonong on two wheels\, four wheels or propeller– you determine the route and the stops from 14 different cool and hidden hangouts! Start and end at The Anchor in Edgerton\, WI. Cash prizes and live music in the massive yard at Anchor to finish your day. All proceeds benefit Hogs For Heroes! Registration 9-12 to start your own tour!
URL:https://wisconsinmotorcycleroads.com/event/koshrock-poker-run-to-benefit-hogs-for-heroes-edgerton/
END:VEVENT
BEGIN:VEVENT
DTSTART;TZID=America/Chicago:20210605T103000
DTEND;TZID=America/Chicago:20210606T020000
DTSTAMP:20260421T033238
CREATED:20210226T030506Z
LAST-MODIFIED:20210226T030506Z
UID:1867-1622889000-1622944800@wisconsinmotorcycleroads.com
SUMMARY:Wild Poker Run - Beloit
DESCRIPTION:Wild Poker Run – Beloit \nStarts at Garmins Bottom Up\, in Beloit and ends there. Spaghetti dinner after for purchase\, live music following ride\, 50/50s\, raffles\, contests\, merchandise\, other contests. To raise funds for Coronapalooza and Rock County food pantries. \nVisit Www.coronapalooza2020.org for more info
URL:https://wisconsinmotorcycleroads.com/event/wild-poker-run-beloit/
END:VEVENT
BEGIN:VEVENT
DTSTART;TZID=America/Chicago:20210227T100000
DTEND;TZID=America/Chicago:20210227T100000
DTSTAMP:20260421T033238
CREATED:20210226T031017Z
LAST-MODIFIED:20210226T031017Z
UID:1868-1614420000-1614420000@wisconsinmotorcycleroads.com
SUMMARY:46th Annual Wausau Swap Meet
DESCRIPTION:46th Annual Wausau Swap Meet\nSaturday February 27th\nCentral Wisconsin Convention & Expo Center\nContact Paul listed on the poster for more info.
URL:https://wisconsinmotorcycleroads.com/event/46th-annual-wausau-swap-meet/
END:VEVENT
BEGIN:VEVENT
DTSTART;VALUE=DATE:20200914
DTEND;VALUE=DATE:20200921
DTSTAMP:20260421T033238
CREATED:20200620T122232Z
LAST-MODIFIED:20200620T122232Z
UID:1830-1600041600-1600646399@wisconsinmotorcycleroads.com
SUMMARY:Tomahawk Fall Ride / Bubba's Big Party - Tomahawk
DESCRIPTION:Tomahawk Fall Ride / Bubba’s Big Party – Tomahawk \nSeptember 14th-20th\, 2020
URL:https://wisconsinmotorcycleroads.com/event/tomahawk-fall-ride-bubbas-big-party-tomahawk/
END:VEVENT
BEGIN:VEVENT
DTSTART;TZID=America/Chicago:20200913T090000
DTEND;TZID=America/Chicago:20200913T190000
DTSTAMP:20260421T033238
CREATED:20200810T231020Z
LAST-MODIFIED:20200810T231020Z
UID:1847-1599987600-1600023600@wisconsinmotorcycleroads.com
SUMMARY:Angels of the Road Ride for Veterans - Brookfield
DESCRIPTION:Angels of the Road Ride for Veterans \nPlease join us for the 3rd Annual Angels of the Road Ride for Veterans at a new location the Brookfield American Legion Post 449. \nThis event is a non guided open ride for all motorcycles and vehicles to participate in while raising money to support the privately funded Healing Warrior Hearts program sponsored by the Starfish Foundation\, a 501c3 charitable organization staffed entirely by volunteers deeply committed to healing the emotional wounds of war for veterans\, their families and community. For more information on the Healing Warrior Hearts program follow their Facebook page at https://www.facebook.com/HealingWarriorHearts/. \nParticipants will start at the American Legion Post 449 in Brookfield and will then depart to other participating American Legion Posts. Riders will then return to the Brookfield Post for a wrap up party with food\, raffle prizes\, and entertainment by RC3. \nCost is $25 per bike or vehicle and $15 per passenger.\nSo whether you ride 2 wheels or 4 or walk or roll come join us in raising money for Veterans in need.
URL:https://wisconsinmotorcycleroads.com/event/angels-of-the-road-ride-for-veterans-brookfield/
END:VEVENT
BEGIN:VEVENT
DTSTART;TZID=America/Chicago:20200912T103000
DTEND;TZID=America/Chicago:20200912T180000
DTSTAMP:20260421T033238
CREATED:20200615T213153Z
LAST-MODIFIED:20200615T213153Z
UID:1724-1599906600-1599933600@wisconsinmotorcycleroads.com
SUMMARY:Roscoe's Ride
DESCRIPTION:A Ride thru Lincoln county to Benefit a local cause (organization or individual) chosen annually.\nPart of the Merrill Area Community Rides M.A.C.R Certified non profit\nLive music raffles & 50/50
URL:https://wisconsinmotorcycleroads.com/event/roscoes-ride/
END:VEVENT
BEGIN:VEVENT
DTSTART;TZID=America/Chicago:20200823T000000
DTEND;TZID=America/Chicago:20200823T060000
DTSTAMP:20260421T033238
CREATED:20200303T024613Z
LAST-MODIFIED:20200303T024613Z
UID:1708-1598140800-1598162400@wisconsinmotorcycleroads.com
SUMMARY:Carburetor Cruise - Black River Falls
DESCRIPTION:Carburetor Cruise – Starts at McSweets Irish Pub in Black River Falls\, goes to York  (25 miles)
URL:https://wisconsinmotorcycleroads.com/event/carburetor-cruise-black-river-falls/
END:VEVENT
END:VCALENDAR