BEGIN:VCALENDAR
VERSION:2.0
PRODID:-//Wisconsin Motorcycle Roads Travel Guide - ECPv6.15.18//NONSGML v1.0//EN
CALSCALE:GREGORIAN
METHOD:PUBLISH
X-WR-CALNAME:Wisconsin Motorcycle Roads Travel Guide
X-ORIGINAL-URL:https://wisconsinmotorcycleroads.com
X-WR-CALDESC:Events for Wisconsin Motorcycle Roads Travel Guide
REFRESH-INTERVAL;VALUE=DURATION:PT1H
X-Robots-Tag:noindex
X-PUBLISHED-TTL:PT1H
BEGIN:VTIMEZONE
TZID:America/Chicago
BEGIN:DAYLIGHT
TZOFFSETFROM:-0600
TZOFFSETTO:-0500
TZNAME:CDT
DTSTART:20140309T080000
END:DAYLIGHT
BEGIN:STANDARD
TZOFFSETFROM:-0500
TZOFFSETTO:-0600
TZNAME:CST
DTSTART:20141102T070000
END:STANDARD
BEGIN:DAYLIGHT
TZOFFSETFROM:-0600
TZOFFSETTO:-0500
TZNAME:CDT
DTSTART:20150308T080000
END:DAYLIGHT
BEGIN:STANDARD
TZOFFSETFROM:-0500
TZOFFSETTO:-0600
TZNAME:CST
DTSTART:20151101T070000
END:STANDARD
BEGIN:DAYLIGHT
TZOFFSETFROM:-0600
TZOFFSETTO:-0500
TZNAME:CDT
DTSTART:20160313T080000
END:DAYLIGHT
BEGIN:STANDARD
TZOFFSETFROM:-0500
TZOFFSETTO:-0600
TZNAME:CST
DTSTART:20161106T070000
END:STANDARD
BEGIN:DAYLIGHT
TZOFFSETFROM:-0600
TZOFFSETTO:-0500
TZNAME:CDT
DTSTART:20170312T080000
END:DAYLIGHT
BEGIN:STANDARD
TZOFFSETFROM:-0500
TZOFFSETTO:-0600
TZNAME:CST
DTSTART:20171105T070000
END:STANDARD
END:VTIMEZONE
BEGIN:VEVENT
DTSTART;TZID=America/Chicago:20160603T000000
DTEND;TZID=America/Chicago:20160605T000000
DTSTAMP:20260419T122559
CREATED:20160331T022304Z
LAST-MODIFIED:20160331T022304Z
UID:369-1464912000-1465084800@wisconsinmotorcycleroads.com
SUMMARY:Superbike Showdown - Road America
DESCRIPTION:MOTOAMERICA (AMA/FIM) HONDA SUPERBIKE SHOWDOWN OF WISCONSIN \nElkhart Lake\, WI \nhttp://www.roadamerica.com/buy-tickets/motoamerica-superbike-doubleheader.html
URL:https://wisconsinmotorcycleroads.com/event/superbike-showdown-road-america/
END:VEVENT
BEGIN:VEVENT
DTSTART;TZID=America/Chicago:20160521T100000
DTEND;TZID=America/Chicago:20160521T170000
DTSTAMP:20260419T122559
CREATED:20160406T041552Z
LAST-MODIFIED:20160406T041552Z
UID:419-1463824800-1463850000@wisconsinmotorcycleroads.com
SUMMARY:Team Triumph 17th Annual Spring Open House - May 21st\, Janesville
DESCRIPTION:Demo rides\nLive Music\nPig roast by Lenny the Pig Roast Master\nSale on tons of stuff\nFree stuff\, Door prizes\nRide/Drive in Classic-Custom bike and car show\nDyno runs by our great friends at Area Convenience Mobile Dyno. Special open house\, $30 pulls!\nMeet some notorious local legends\nAfter hours party with music and a HUGE bonfire\nCamping available on site\, contact them for a spot\nClose lodging available at a discounted rate at the Baymont Inn\, 2 miles from Team. Call (608) 758-4545 for reservations
URL:https://wisconsinmotorcycleroads.com/event/team-triumph-17th-annual-spring-open-house-may-21st-janesville/
END:VEVENT
BEGIN:VEVENT
DTSTART;TZID=America/Chicago:20160521T100000
DTEND;TZID=America/Chicago:20160521T170000
DTSTAMP:20260419T122559
CREATED:20160331T025501Z
LAST-MODIFIED:20160331T025501Z
UID:386-1463824800-1463850000@wisconsinmotorcycleroads.com
SUMMARY:9th Annual - NEW Homeless Vets Ride\, Green Bay
DESCRIPTION:Click on image to enlarge
URL:https://wisconsinmotorcycleroads.com/event/9th-annual-new-homeless-vets-ride-green-bay/
END:VEVENT
BEGIN:VEVENT
DTSTART;TZID=America/Chicago:20160507T100000
DTEND;TZID=America/Chicago:20160507T230000
DTSTAMP:20260419T122559
CREATED:20160331T034626Z
LAST-MODIFIED:20160331T034626Z
UID:401-1462615200-1462662000@wisconsinmotorcycleroads.com
SUMMARY:MVM Run - Military Veterans Museum\, Oshkosh
DESCRIPTION:4th Annual MVM Run – Proceeds to benefit Military Veterans Museum in Oshkosh \nClick on image to enlarge
URL:https://wisconsinmotorcycleroads.com/event/mvm-run-military-veterans-museum-oshkosh/
END:VEVENT
BEGIN:VEVENT
DTSTART;TZID=America/Chicago:20160430T100000
DTEND;TZID=America/Chicago:20160430T170000
DTSTAMP:20260419T122559
CREATED:20160326T135646Z
LAST-MODIFIED:20160326T135646Z
UID:373-1462010400-1462035600@wisconsinmotorcycleroads.com
SUMMARY:ABATE 7D Show & Swapmeet
DESCRIPTION:Vendors\, Bike Show. Food & Beverage on Site.
URL:https://wisconsinmotorcycleroads.com/event/abate-7d-show-swapmeet/
END:VEVENT
BEGIN:VEVENT
DTSTART;TZID=America/Chicago:20160415T170000
DTEND;TZID=America/Chicago:20160415T203000
DTSTAMP:20260419T122559
CREATED:20160405T000216Z
LAST-MODIFIED:20160405T000216Z
UID:413-1460739600-1460752200@wisconsinmotorcycleroads.com
SUMMARY:Sportland 2's Bike Night\, Oak Creek - Friday\, April 15
DESCRIPTION:Friday\, April 15th is Sportland 2’s Bike Night! \nYou don’t have to ride into Sportland 2 on April 15th\, \nbut you’ll want to be there\, whether it takes you two wheels or four wheels! \n  \nFree food courtesy of Toscana Italian Restaraunt\, plenty of bench racing\, \nstorewide openhouse\, talk to the techs\, TONS of door prizes\, fashion show about 6:30\, and a live DJ. \n  \nHUGE discounts on gear and accessories! \nIt’s not your normal bike night\, but it is Sportland 2’s only Bike Night of the year! \nLocated on 13th and Rawson Ave in Oak Creek.\n5:00 p.m. -April 15th \nFor more info\, check them out on facebook or Sportland 2 dot com.
URL:https://wisconsinmotorcycleroads.com/event/sportland-2s-bike-night-oak-creek-friday-april-15/
END:VEVENT
BEGIN:VEVENT
DTSTART;TZID=America/Chicago:20150613T080000
DTEND;TZID=America/Chicago:20150621T170000
DTSTAMP:20260419T122559
CREATED:20150615T175335Z
LAST-MODIFIED:20150615T175335Z
UID:187-1434182400-1434906000@wisconsinmotorcycleroads.com
SUMMARY:33rd Annual Porterfield Country Music Festival
DESCRIPTION:
URL:https://wisconsinmotorcycleroads.com/event/33rd-annual-porterfield-country-music-festival/
ATTACH;FMTTYPE=image/jpeg:https://wisconsinmotorcycleroads.com/wp-content/uploads/2015/06/Page11-2.jpg
END:VEVENT
END:VCALENDAR