BEGIN:VCALENDAR
VERSION:2.0
PRODID:-//Wisconsin Motorcycle Roads Travel Guide - ECPv6.15.18//NONSGML v1.0//EN
CALSCALE:GREGORIAN
METHOD:PUBLISH
X-WR-CALNAME:Wisconsin Motorcycle Roads Travel Guide
X-ORIGINAL-URL:https://wisconsinmotorcycleroads.com
X-WR-CALDESC:Events for Wisconsin Motorcycle Roads Travel Guide
REFRESH-INTERVAL;VALUE=DURATION:PT1H
X-Robots-Tag:noindex
X-PUBLISHED-TTL:PT1H
BEGIN:VTIMEZONE
TZID:America/Chicago
BEGIN:DAYLIGHT
TZOFFSETFROM:-0600
TZOFFSETTO:-0500
TZNAME:CDT
DTSTART:20190310T080000
END:DAYLIGHT
BEGIN:STANDARD
TZOFFSETFROM:-0500
TZOFFSETTO:-0600
TZNAME:CST
DTSTART:20191103T070000
END:STANDARD
BEGIN:DAYLIGHT
TZOFFSETFROM:-0600
TZOFFSETTO:-0500
TZNAME:CDT
DTSTART:20200308T080000
END:DAYLIGHT
BEGIN:STANDARD
TZOFFSETFROM:-0500
TZOFFSETTO:-0600
TZNAME:CST
DTSTART:20201101T070000
END:STANDARD
BEGIN:DAYLIGHT
TZOFFSETFROM:-0600
TZOFFSETTO:-0500
TZNAME:CDT
DTSTART:20210314T080000
END:DAYLIGHT
BEGIN:STANDARD
TZOFFSETFROM:-0500
TZOFFSETTO:-0600
TZNAME:CST
DTSTART:20211107T070000
END:STANDARD
END:VTIMEZONE
BEGIN:VEVENT
DTSTART;TZID=America/Chicago:20200724T100000
DTEND;TZID=America/Chicago:20200726T140000
DTSTAMP:20260425T141016
CREATED:20200303T025001Z
LAST-MODIFIED:20200303T025001Z
UID:1709-1595584800-1595772000@wisconsinmotorcycleroads.com
SUMMARY:Biker Bob's Team Hannah Weekender and Charity Ride\, Gleason
DESCRIPTION:Biker Bob’s Team Hannah Weekender and Charity Ride\, Gleason\nMark your calendars for this great Family weekend in Wisconsins northwoods. Watch here for more details! The MC Festival grounds in Gleason has now been secured. We will have a fully equipped grounds with camping\, a pig roast and more surprises to come. Remember all proceeds go to the Team Hannah benefit to the University of WI Burn Center and The Wisconsin Burn Camp! Please share this with friends we have room for a huge group !! \nI’d really love to see my friends support my grand daughter Hannah and make a big appearance! Team Hannah Rocks! More info as it becomes available. Please no colors as this is a family friendly event.
URL:https://wisconsinmotorcycleroads.com/event/biker-bobs-team-hannah-weekender-and-charity-ride-gleason/
END:VEVENT
END:VCALENDAR