BEGIN:VCALENDAR
VERSION:2.0
PRODID:-//Wisconsin Motorcycle Roads Travel Guide - ECPv6.15.18//NONSGML v1.0//EN
CALSCALE:GREGORIAN
METHOD:PUBLISH
X-ORIGINAL-URL:https://wisconsinmotorcycleroads.com
X-WR-CALDESC:Events for Wisconsin Motorcycle Roads Travel Guide
REFRESH-INTERVAL;VALUE=DURATION:PT1H
X-Robots-Tag:noindex
X-PUBLISHED-TTL:PT1H
BEGIN:VTIMEZONE
TZID:America/Chicago
BEGIN:DAYLIGHT
TZOFFSETFROM:-0600
TZOFFSETTO:-0500
TZNAME:CDT
DTSTART:20190310T080000
END:DAYLIGHT
BEGIN:STANDARD
TZOFFSETFROM:-0500
TZOFFSETTO:-0600
TZNAME:CST
DTSTART:20191103T070000
END:STANDARD
BEGIN:DAYLIGHT
TZOFFSETFROM:-0600
TZOFFSETTO:-0500
TZNAME:CDT
DTSTART:20200308T080000
END:DAYLIGHT
BEGIN:STANDARD
TZOFFSETFROM:-0500
TZOFFSETTO:-0600
TZNAME:CST
DTSTART:20201101T070000
END:STANDARD
BEGIN:DAYLIGHT
TZOFFSETFROM:-0600
TZOFFSETTO:-0500
TZNAME:CDT
DTSTART:20210314T080000
END:DAYLIGHT
BEGIN:STANDARD
TZOFFSETFROM:-0500
TZOFFSETTO:-0600
TZNAME:CST
DTSTART:20211107T070000
END:STANDARD
END:VTIMEZONE
BEGIN:VEVENT
DTSTART;TZID=America/Chicago:20200717T000000
DTEND;TZID=America/Chicago:20200719T000000
DTSTAMP:20260425T140818
CREATED:20200128T035343Z
LAST-MODIFIED:20200128T035343Z
UID:1656-1594944000-1595116800@wisconsinmotorcycleroads.com
SUMMARY:British Biker Cooperative 40th Annual Rally and Show - Blue River
DESCRIPTION:7/17-19: British Biker Cooperative 40th Annual Rally and Show – Blue River \nMotorcycle Rally & Show\, Eagle Cave Resort. Blue River\, Wis. Open to all brands of motorcycles. \nThe British Biker Cooperative Celebrates the 40th Anniversary of their Annual Motorcycle Rally & Show\nThe British Biker Cooperative (BBC) has enthusiastically and very successfully promoted the rich heritage of the British motorcycle in the United States for over three decades. Their membership enjoy all facets of British motorcycling past and present through their active participation in motorcycle events throughout the United States and beyond. The BBC is most recognized for their annual Rally that has drawn thousands of motorcyclists over the years into the unique experience of British motorcycling in the United States.\nOn July 17-19\, 2020\, the BBC will celebrate their 40th Annual British Biker Cooperative – Motorcycle Rally and Show at Eagle Cave Natural Campground in Blue River\, Wisconsin. The event offers a weekend of activities:including group rides and bike games\, a Motorcycle Show\, Friday night movie\, band Saturday night\, comfortable shaded camping with dedicated quiet areas\, and refreshments. An assortment of on-site amenities include a restaurant\, camp store\, showers\, and cave tours through Wisconsin’s largest commercial cave. The event formally kick-starts on Friday\, but the BBC encourages riders to arrive early to avoid the rush. The BBC Rally location is 60 miles due west of Madison\, Wisconsin near the Wisconsin River and features many area attractions including rides along the majestic Mississippi River\, Frank Lloyd Wright’s Spring Green\, and The House on the Rock.\nThis event offers a great opportunity to see both rare vintage and late model British motorcycles in action on some of the best riding roads in the Midwest. All motorcycle enthusiasts are welcome.
URL:https://wisconsinmotorcycleroads.com/event/british-biker-cooperative-40th-annual-rally-and-show-blue-river/
END:VEVENT
END:VCALENDAR