BEGIN:VCALENDAR
VERSION:2.0
PRODID:-//Wisconsin Motorcycle Roads Travel Guide - ECPv6.15.18//NONSGML v1.0//EN
CALSCALE:GREGORIAN
METHOD:PUBLISH
X-WR-CALNAME:Wisconsin Motorcycle Roads Travel Guide
X-ORIGINAL-URL:https://wisconsinmotorcycleroads.com
X-WR-CALDESC:Events for Wisconsin Motorcycle Roads Travel Guide
REFRESH-INTERVAL;VALUE=DURATION:PT1H
X-Robots-Tag:noindex
X-PUBLISHED-TTL:PT1H
BEGIN:VTIMEZONE
TZID:America/Chicago
BEGIN:DAYLIGHT
TZOFFSETFROM:-0600
TZOFFSETTO:-0500
TZNAME:CDT
DTSTART:20190310T080000
END:DAYLIGHT
BEGIN:STANDARD
TZOFFSETFROM:-0500
TZOFFSETTO:-0600
TZNAME:CST
DTSTART:20191103T070000
END:STANDARD
BEGIN:DAYLIGHT
TZOFFSETFROM:-0600
TZOFFSETTO:-0500
TZNAME:CDT
DTSTART:20200308T080000
END:DAYLIGHT
BEGIN:STANDARD
TZOFFSETFROM:-0500
TZOFFSETTO:-0600
TZNAME:CST
DTSTART:20201101T070000
END:STANDARD
BEGIN:DAYLIGHT
TZOFFSETFROM:-0600
TZOFFSETTO:-0500
TZNAME:CDT
DTSTART:20210314T080000
END:DAYLIGHT
BEGIN:STANDARD
TZOFFSETFROM:-0500
TZOFFSETTO:-0600
TZNAME:CST
DTSTART:20211107T070000
END:STANDARD
END:VTIMEZONE
BEGIN:VEVENT
DTSTART;TZID=America/Chicago:20200529T120000
DTEND;TZID=America/Chicago:20200531T120000
DTSTAMP:20260425T163844
CREATED:20200204T042835Z
LAST-MODIFIED:20200204T042835Z
UID:1682-1590753600-1590926400@wisconsinmotorcycleroads.com
SUMMARY:Road Rash Rally - Aniwa
DESCRIPTION:5/29/2020 Second Annual Road Rash Rally\nHosted by the Motorama Auo Museum 18 miles east of Wausau on Hwy 52.\nFriday May 29-Sunday May 31 2020.\nFood\, Music\, bike show\, camping\, bike games\, bar\, museum. and more.\nAll bikers welcome. Info call 715 449 2141 or alfaheaven.com \n \n 
URL:https://wisconsinmotorcycleroads.com/event/road-rash-rally-aniwa/
END:VEVENT
END:VCALENDAR