BEGIN:VCALENDAR
VERSION:2.0
PRODID:-//Wisconsin Motorcycle Roads Travel Guide - ECPv6.15.18//NONSGML v1.0//EN
CALSCALE:GREGORIAN
METHOD:PUBLISH
X-WR-CALNAME:Wisconsin Motorcycle Roads Travel Guide
X-ORIGINAL-URL:https://wisconsinmotorcycleroads.com
X-WR-CALDESC:Events for Wisconsin Motorcycle Roads Travel Guide
REFRESH-INTERVAL;VALUE=DURATION:PT1H
X-Robots-Tag:noindex
X-PUBLISHED-TTL:PT1H
BEGIN:VTIMEZONE
TZID:America/Chicago
BEGIN:DAYLIGHT
TZOFFSETFROM:-0600
TZOFFSETTO:-0500
TZNAME:CDT
DTSTART:20180311T080000
END:DAYLIGHT
BEGIN:STANDARD
TZOFFSETFROM:-0500
TZOFFSETTO:-0600
TZNAME:CST
DTSTART:20181104T070000
END:STANDARD
BEGIN:DAYLIGHT
TZOFFSETFROM:-0600
TZOFFSETTO:-0500
TZNAME:CDT
DTSTART:20190310T080000
END:DAYLIGHT
BEGIN:STANDARD
TZOFFSETFROM:-0500
TZOFFSETTO:-0600
TZNAME:CST
DTSTART:20191103T070000
END:STANDARD
BEGIN:DAYLIGHT
TZOFFSETFROM:-0600
TZOFFSETTO:-0500
TZNAME:CDT
DTSTART:20200308T080000
END:DAYLIGHT
BEGIN:STANDARD
TZOFFSETFROM:-0500
TZOFFSETTO:-0600
TZNAME:CST
DTSTART:20201101T070000
END:STANDARD
END:VTIMEZONE
BEGIN:VEVENT
DTSTART;TZID=America/Chicago:20190620T120000
DTEND;TZID=America/Chicago:20190622T235900
DTSTAMP:20260423T151312
CREATED:20190505T215609Z
LAST-MODIFIED:20190505T215609Z
UID:1279-1561032000-1561247940@wisconsinmotorcycleroads.com
SUMMARY:Rollin Iron Bike Fest - Gile
DESCRIPTION:Rollin’ Iron Bike Fest – Gile \nHead north for the Rollin’ Iron Bike Fest\, June 20 – 22. Starting in Gile\, the poker run will include businesses throughout the North of Wisconsin. Enjoy scenic rides including waterfalls\, Lake Superior and the Penokee Mountains. Businesses will offer specials throughout the event. Saturday will feature the Summer Solstice Celebration in Gile with Live Music\, Food\, Bags & Darts Tournament and MORE!! Visit www.hurleywi.com for details and registration information
URL:https://wisconsinmotorcycleroads.com/event/rollin-iron-bike-fest-hurley/
END:VEVENT
END:VCALENDAR