BEGIN:VCALENDAR
VERSION:2.0
PRODID:-//Wisconsin Motorcycle Roads Travel Guide - ECPv6.15.18//NONSGML v1.0//EN
CALSCALE:GREGORIAN
METHOD:PUBLISH
X-WR-CALNAME:Wisconsin Motorcycle Roads Travel Guide
X-ORIGINAL-URL:https://wisconsinmotorcycleroads.com
X-WR-CALDESC:Events for Wisconsin Motorcycle Roads Travel Guide
REFRESH-INTERVAL;VALUE=DURATION:PT1H
X-Robots-Tag:noindex
X-PUBLISHED-TTL:PT1H
BEGIN:VTIMEZONE
TZID:America/Chicago
BEGIN:DAYLIGHT
TZOFFSETFROM:-0600
TZOFFSETTO:-0500
TZNAME:CDT
DTSTART:20180311T080000
END:DAYLIGHT
BEGIN:STANDARD
TZOFFSETFROM:-0500
TZOFFSETTO:-0600
TZNAME:CST
DTSTART:20181104T070000
END:STANDARD
BEGIN:DAYLIGHT
TZOFFSETFROM:-0600
TZOFFSETTO:-0500
TZNAME:CDT
DTSTART:20190310T080000
END:DAYLIGHT
BEGIN:STANDARD
TZOFFSETFROM:-0500
TZOFFSETTO:-0600
TZNAME:CST
DTSTART:20191103T070000
END:STANDARD
BEGIN:DAYLIGHT
TZOFFSETFROM:-0600
TZOFFSETTO:-0500
TZNAME:CDT
DTSTART:20200308T080000
END:DAYLIGHT
BEGIN:STANDARD
TZOFFSETFROM:-0500
TZOFFSETTO:-0600
TZNAME:CST
DTSTART:20201101T070000
END:STANDARD
END:VTIMEZONE
BEGIN:VEVENT
DTSTART;TZID=America/Chicago:20190608T080000
DTEND;TZID=America/Chicago:20190609T023000
DTSTAMP:20260423T163520
CREATED:20190505T213925Z
LAST-MODIFIED:20190505T213925Z
UID:1284-1559980800-1560047400@wisconsinmotorcycleroads.com
SUMMARY:Ride for Wolverine Wrestlers - Crivitz
DESCRIPTION:Ride for Wolverine Wrestlers – Crivitz \nStarting in crivitz at THORS WOLVERINE DEN (423 HALL AVE).\n8-10 REGISTRATION.\nKICKSTANDS UP 1030AM\nESTIMATED RETURN 5PM\n101 MILE RIDE\n4 STOP PLUS THORS WOLVERINE DEN (5 TOTAL).\nPOKER RUN\, BEST AND WORST HAND WINS.\nFOOD\, MUSIC\, AFTER PARTY AT THORS WOLVERINE DEN AFTERWORDS.
URL:https://wisconsinmotorcycleroads.com/event/ride-for-wolverine-wrestlers-crivitz/
END:VEVENT
END:VCALENDAR