BEGIN:VCALENDAR
VERSION:2.0
PRODID:-//Wisconsin Motorcycle Roads Travel Guide - ECPv6.15.18//NONSGML v1.0//EN
CALSCALE:GREGORIAN
METHOD:PUBLISH
X-WR-CALNAME:Wisconsin Motorcycle Roads Travel Guide
X-ORIGINAL-URL:https://wisconsinmotorcycleroads.com
X-WR-CALDESC:Events for Wisconsin Motorcycle Roads Travel Guide
REFRESH-INTERVAL;VALUE=DURATION:PT1H
X-Robots-Tag:noindex
X-PUBLISHED-TTL:PT1H
BEGIN:VTIMEZONE
TZID:America/Chicago
BEGIN:DAYLIGHT
TZOFFSETFROM:-0600
TZOFFSETTO:-0500
TZNAME:CDT
DTSTART:20180311T080000
END:DAYLIGHT
BEGIN:STANDARD
TZOFFSETFROM:-0500
TZOFFSETTO:-0600
TZNAME:CST
DTSTART:20181104T070000
END:STANDARD
BEGIN:DAYLIGHT
TZOFFSETFROM:-0600
TZOFFSETTO:-0500
TZNAME:CDT
DTSTART:20190310T080000
END:DAYLIGHT
BEGIN:STANDARD
TZOFFSETFROM:-0500
TZOFFSETTO:-0600
TZNAME:CST
DTSTART:20191103T070000
END:STANDARD
BEGIN:DAYLIGHT
TZOFFSETFROM:-0600
TZOFFSETTO:-0500
TZNAME:CDT
DTSTART:20200308T080000
END:DAYLIGHT
BEGIN:STANDARD
TZOFFSETFROM:-0500
TZOFFSETTO:-0600
TZNAME:CST
DTSTART:20201101T070000
END:STANDARD
END:VTIMEZONE
BEGIN:VEVENT
DTSTART;TZID=America/Chicago:20190527T073000
DTEND;TZID=America/Chicago:20190527T160000
DTSTAMP:20260423T135215
CREATED:20190327T004613Z
LAST-MODIFIED:20190327T004613Z
UID:1141-1558942200-1558972800@wisconsinmotorcycleroads.com
SUMMARY:The Highground Memorial Day Honor Ride\, Neillsville
DESCRIPTION:The Highground Memorial Day Honor Ride \nA full day of honoring those KIA / MIA . Start off the day with a Guided Ride from one of SEVERAL starting points in Wisconsin. All Routes gather together at the end of the guided ride (approx 1:30pm) in the Central WI town of Neillsville for Raffles and relaxation before riding as one large group out to The Highground Veterans Memorial Park. Once there\, Riders will enjoy a big lunch and one of the best Memorial Day programs around on the beautiful and meaningful grounds of the Highground – Honoring & Healing for Veterans and their Families. this Ride has grown exponentially since it’s start in 2010 and is the best way to show your support for our Veterans and to Ride with fellow Vets and Vet supporters! More info and online registration at www.highgroundhonorride.com
URL:https://wisconsinmotorcycleroads.com/event/the-highground-memorial-day-honor-ride-neillsville/
END:VEVENT
END:VCALENDAR