BEGIN:VCALENDAR
VERSION:2.0
PRODID:-//Wisconsin Motorcycle Roads Travel Guide - ECPv6.15.18//NONSGML v1.0//EN
CALSCALE:GREGORIAN
METHOD:PUBLISH
X-ORIGINAL-URL:https://wisconsinmotorcycleroads.com
X-WR-CALDESC:Events for Wisconsin Motorcycle Roads Travel Guide
REFRESH-INTERVAL;VALUE=DURATION:PT1H
X-Robots-Tag:noindex
X-PUBLISHED-TTL:PT1H
BEGIN:VTIMEZONE
TZID:America/Chicago
BEGIN:DAYLIGHT
TZOFFSETFROM:-0600
TZOFFSETTO:-0500
TZNAME:CDT
DTSTART:20170312T080000
END:DAYLIGHT
BEGIN:STANDARD
TZOFFSETFROM:-0500
TZOFFSETTO:-0600
TZNAME:CST
DTSTART:20171105T070000
END:STANDARD
BEGIN:DAYLIGHT
TZOFFSETFROM:-0600
TZOFFSETTO:-0500
TZNAME:CDT
DTSTART:20180311T080000
END:DAYLIGHT
BEGIN:STANDARD
TZOFFSETFROM:-0500
TZOFFSETTO:-0600
TZNAME:CST
DTSTART:20181104T070000
END:STANDARD
BEGIN:DAYLIGHT
TZOFFSETFROM:-0600
TZOFFSETTO:-0500
TZNAME:CDT
DTSTART:20190310T080000
END:DAYLIGHT
BEGIN:STANDARD
TZOFFSETFROM:-0500
TZOFFSETTO:-0600
TZNAME:CST
DTSTART:20191103T070000
END:STANDARD
END:VTIMEZONE
BEGIN:VEVENT
DTSTART;TZID=America/Chicago:20180607T120000
DTEND;TZID=America/Chicago:20180610T150000
DTSTAMP:20260422T183346
CREATED:20180426T054747Z
LAST-MODIFIED:20180426T054747Z
UID:803-1528372800-1528642800@wisconsinmotorcycleroads.com
SUMMARY:Legendary RV/Boat/Sport Show
DESCRIPTION:Ride up to Legendary Waters nestled in the Apostle Islands National Lakeshore June 7-10 for our Legendary Sport Show! One lucky winner will ride away on a brand new Harley-Davidson Softail Deluxe on Saturday June 9 at 11 PM! Don’t miss your chance to win this beauty! Harley-Davidson of Duluth will be on site\, as well as Link RV and many more! Enjoy indoor and outdoor vendor displays\, as well as live bands on Friday and Saturday! Our snack bar and restaurant will have some delicious specials. Stay the weekend in our beautiful resort or at one of our campgrounds\, and enjoy the beach and all the outdoors has to offer\, as well as exciting cash giveaways and prizes all weekend in the casino. Visit LegendaryWaters.com\, and call toll free (800) 226-8478 to make your reservation today! \nSchedule:\nThursday 12-5\nFriday 9-5\, band 3-5\nSaturday 9-5\, band 3-5\, Harley-Davidson winner announced at 11 PM\nSunday 10-3
URL:https://wisconsinmotorcycleroads.com/event/legendary-rvboatsport-show/
END:VEVENT
END:VCALENDAR