BEGIN:VCALENDAR
VERSION:2.0
PRODID:-//Wisconsin Motorcycle Roads Travel Guide - ECPv6.15.18//NONSGML v1.0//EN
CALSCALE:GREGORIAN
METHOD:PUBLISH
X-ORIGINAL-URL:https://wisconsinmotorcycleroads.com
X-WR-CALDESC:Events for Wisconsin Motorcycle Roads Travel Guide
REFRESH-INTERVAL;VALUE=DURATION:PT1H
X-Robots-Tag:noindex
X-PUBLISHED-TTL:PT1H
BEGIN:VTIMEZONE
TZID:America/Chicago
BEGIN:DAYLIGHT
TZOFFSETFROM:-0600
TZOFFSETTO:-0500
TZNAME:CDT
DTSTART:20170312T080000
END:DAYLIGHT
BEGIN:STANDARD
TZOFFSETFROM:-0500
TZOFFSETTO:-0600
TZNAME:CST
DTSTART:20171105T070000
END:STANDARD
BEGIN:DAYLIGHT
TZOFFSETFROM:-0600
TZOFFSETTO:-0500
TZNAME:CDT
DTSTART:20180311T080000
END:DAYLIGHT
BEGIN:STANDARD
TZOFFSETFROM:-0500
TZOFFSETTO:-0600
TZNAME:CST
DTSTART:20181104T070000
END:STANDARD
BEGIN:DAYLIGHT
TZOFFSETFROM:-0600
TZOFFSETTO:-0500
TZNAME:CDT
DTSTART:20190310T080000
END:DAYLIGHT
BEGIN:STANDARD
TZOFFSETFROM:-0500
TZOFFSETTO:-0600
TZNAME:CST
DTSTART:20191103T070000
END:STANDARD
END:VTIMEZONE
BEGIN:VEVENT
DTSTART;TZID=America/Chicago:20180127T120000
DTEND;TZID=America/Chicago:20180127T150000
DTSTAMP:20260421T190406
CREATED:20180118T024651Z
LAST-MODIFIED:20180118T024651Z
UID:677-1517054400-1517065200@wisconsinmotorcycleroads.com
SUMMARY:Swap Meet\, Open Road Harley-Davidson\, Fond du Lac
DESCRIPTION:Take a break from the cold\, and stop into Open Road Harley-Davidson for their Swap Meet event. Vendors will bringing in their H-D merchandise for you to purchase. \nAlso during the event our Service and Parts & Accessories team will have a couple of workshops for you to check out:\n“LEARN HOW TO CLEAN UP YOUR ACT” DEMO\nBOOM! AUDIO WORKSHOP\nXK GLOW ACCENT LIGHTING FOR YOUR BIKE \nEvent is held on Saturday\, January 27 from 12-3PM. \n*Open Road Harley-Davidson shall not be liable for any injury or damage to the person\, business\, equipment\, merchandise or other property of vendor or any of vendors employees\, invitees or customers or any other person on or about the event\, resulting from any cause whatsoever.
URL:https://wisconsinmotorcycleroads.com/event/swap-meet-open-road-harley-davidson-fond-du-lac/
END:VEVENT
END:VCALENDAR