BEGIN:VCALENDAR
VERSION:2.0
PRODID:-//Wisconsin Motorcycle Roads Travel Guide - ECPv6.15.18//NONSGML v1.0//EN
CALSCALE:GREGORIAN
METHOD:PUBLISH
X-ORIGINAL-URL:https://wisconsinmotorcycleroads.com
X-WR-CALDESC:Events for Wisconsin Motorcycle Roads Travel Guide
REFRESH-INTERVAL;VALUE=DURATION:PT1H
X-Robots-Tag:noindex
X-PUBLISHED-TTL:PT1H
BEGIN:VTIMEZONE
TZID:America/Chicago
BEGIN:DAYLIGHT
TZOFFSETFROM:-0600
TZOFFSETTO:-0500
TZNAME:CDT
DTSTART:20160313T080000
END:DAYLIGHT
BEGIN:STANDARD
TZOFFSETFROM:-0500
TZOFFSETTO:-0600
TZNAME:CST
DTSTART:20161106T070000
END:STANDARD
BEGIN:DAYLIGHT
TZOFFSETFROM:-0600
TZOFFSETTO:-0500
TZNAME:CDT
DTSTART:20170312T080000
END:DAYLIGHT
BEGIN:STANDARD
TZOFFSETFROM:-0500
TZOFFSETTO:-0600
TZNAME:CST
DTSTART:20171105T070000
END:STANDARD
BEGIN:DAYLIGHT
TZOFFSETFROM:-0600
TZOFFSETTO:-0500
TZNAME:CDT
DTSTART:20180311T080000
END:DAYLIGHT
BEGIN:STANDARD
TZOFFSETFROM:-0500
TZOFFSETTO:-0600
TZNAME:CST
DTSTART:20181104T070000
END:STANDARD
END:VTIMEZONE
BEGIN:VEVENT
DTSTART;VALUE=DATE:20170805
DTEND;VALUE=DATE:20170806
DTSTAMP:20260421T121812
CREATED:20170115T174020Z
LAST-MODIFIED:20170115T174020Z
UID:508-1501891200-1501977599@wisconsinmotorcycleroads.com
SUMMARY:Triple C Riders Waterfront Ride
DESCRIPTION:Triple C Riders Waterfront Ride
URL:https://wisconsinmotorcycleroads.com/event/triple-c-riders-waterfront-ride/
END:VEVENT
END:VCALENDAR