BEGIN:VCALENDAR
VERSION:2.0
PRODID:-//Wisconsin Motorcycle Roads Travel Guide - ECPv6.15.18//NONSGML v1.0//EN
CALSCALE:GREGORIAN
METHOD:PUBLISH
X-WR-CALNAME:Wisconsin Motorcycle Roads Travel Guide
X-ORIGINAL-URL:https://wisconsinmotorcycleroads.com
X-WR-CALDESC:Events for Wisconsin Motorcycle Roads Travel Guide
REFRESH-INTERVAL;VALUE=DURATION:PT1H
X-Robots-Tag:noindex
X-PUBLISHED-TTL:PT1H
BEGIN:VTIMEZONE
TZID:America/Toronto
BEGIN:DAYLIGHT
TZOFFSETFROM:-0500
TZOFFSETTO:-0400
TZNAME:EDT
DTSTART:20160313T070000
END:DAYLIGHT
BEGIN:STANDARD
TZOFFSETFROM:-0400
TZOFFSETTO:-0500
TZNAME:EST
DTSTART:20161106T060000
END:STANDARD
BEGIN:DAYLIGHT
TZOFFSETFROM:-0500
TZOFFSETTO:-0400
TZNAME:EDT
DTSTART:20170312T070000
END:DAYLIGHT
BEGIN:STANDARD
TZOFFSETFROM:-0400
TZOFFSETTO:-0500
TZNAME:EST
DTSTART:20171105T060000
END:STANDARD
BEGIN:DAYLIGHT
TZOFFSETFROM:-0500
TZOFFSETTO:-0400
TZNAME:EDT
DTSTART:20180311T070000
END:DAYLIGHT
BEGIN:STANDARD
TZOFFSETFROM:-0400
TZOFFSETTO:-0500
TZNAME:EST
DTSTART:20181104T060000
END:STANDARD
END:VTIMEZONE
BEGIN:VTIMEZONE
TZID:America/Chicago
BEGIN:DAYLIGHT
TZOFFSETFROM:-0600
TZOFFSETTO:-0500
TZNAME:CDT
DTSTART:20160313T080000
END:DAYLIGHT
BEGIN:STANDARD
TZOFFSETFROM:-0500
TZOFFSETTO:-0600
TZNAME:CST
DTSTART:20161106T070000
END:STANDARD
BEGIN:DAYLIGHT
TZOFFSETFROM:-0600
TZOFFSETTO:-0500
TZNAME:CDT
DTSTART:20170312T080000
END:DAYLIGHT
BEGIN:STANDARD
TZOFFSETFROM:-0500
TZOFFSETTO:-0600
TZNAME:CST
DTSTART:20171105T070000
END:STANDARD
BEGIN:DAYLIGHT
TZOFFSETFROM:-0600
TZOFFSETTO:-0500
TZNAME:CDT
DTSTART:20180311T080000
END:DAYLIGHT
BEGIN:STANDARD
TZOFFSETFROM:-0500
TZOFFSETTO:-0600
TZNAME:CST
DTSTART:20181104T070000
END:STANDARD
END:VTIMEZONE
BEGIN:VEVENT
DTSTART;TZID=America/Toronto:20170707T130000
DTEND;TZID=America/Toronto:20170709T160000
DTSTAMP:20260421T133815
CREATED:20170621T035457Z
LAST-MODIFIED:20170621T035457Z
UID:585-1499432400-1499616000@wisconsinmotorcycleroads.com
SUMMARY:July 7-9\,  – ABATE and Trails End Mid Summer Campout\, Fairchild
DESCRIPTION:July 7-9\, – ABATE and Trails End Mid Summer Campout\, Fairchild \nCamping $15 per person/ RV $30 \nFRIDAY: Silent Auction\, Meat Raffle\, Bean Bags and BINGO.\nSATURDAY: Trivia poker Run (Bikes or Cars)\nRegistration 10-11am. Ride in Bike Show–Enter your bike!! $10 entry fee: 1st\, 2nd\, 3rd place. Custom Made Trophies.\nCar Show–Grab your car club buddies and show off your ride\, anyone welcome to enter $10 entry fee\, area holds 100+ cars. Registration 10am-1pm\, Judging until 2:30pm Trophies at 3pm.\nSUNDAY: Starting at 1pm\, Meat Raffle\, BINGO and Bean Bags.\nGet your Cards for the Booze Cart $10 per card or $20 for 3 cards
URL:https://wisconsinmotorcycleroads.com/event/july-7-9-abate-and-trails-end-mid-summer-campout-fairchild/
END:VEVENT
BEGIN:VEVENT
DTSTART;VALUE=DATE:20170708
DTEND;VALUE=DATE:20170709
DTSTAMP:20260421T133815
CREATED:20170115T173921Z
LAST-MODIFIED:20170115T173921Z
UID:507-1499472000-1499558399@wisconsinmotorcycleroads.com
SUMMARY:July 8th\, 2017 – Triple C Riders: River Cities Charity Ride & Marinette Logging Fest Cookout
DESCRIPTION:July 8th\, 2017 – Triple C Riders: River Cities Charity Ride & Marinette Logging Fest Cookout – Marinette
URL:https://wisconsinmotorcycleroads.com/event/july-8th-2017-triple-c-riders-river-cities-charity-ride-marinette-logging-fest-cookout/
END:VEVENT
BEGIN:VEVENT
DTSTART;TZID=America/Chicago:20170708T120000
DTEND;TZID=America/Chicago:20170708T150000
DTSTAMP:20260421T133815
CREATED:20170505T200215Z
LAST-MODIFIED:20170505T200215Z
UID:557-1499515200-1499526000@wisconsinmotorcycleroads.com
SUMMARY:Summer Saturday BBQ Bash - Oconomowoc
DESCRIPTION:Enjoy free grilled brats and burgers. Live entertainment + icy cold berages + door prizes! \nWisconsin Harley-Davidson in Oconomowoc
URL:https://wisconsinmotorcycleroads.com/event/summer-saturday-bbq-bash-oconomowoc/
END:VEVENT
END:VCALENDAR