BEGIN:VCALENDAR
VERSION:2.0
PRODID:-//Wisconsin Motorcycle Roads Travel Guide - ECPv6.15.18//NONSGML v1.0//EN
CALSCALE:GREGORIAN
METHOD:PUBLISH
X-ORIGINAL-URL:https://wisconsinmotorcycleroads.com
X-WR-CALDESC:Events for Wisconsin Motorcycle Roads Travel Guide
REFRESH-INTERVAL;VALUE=DURATION:PT1H
X-Robots-Tag:noindex
X-PUBLISHED-TTL:PT1H
BEGIN:VTIMEZONE
TZID:America/Chicago
BEGIN:DAYLIGHT
TZOFFSETFROM:-0600
TZOFFSETTO:-0500
TZNAME:CDT
DTSTART:20160313T080000
END:DAYLIGHT
BEGIN:STANDARD
TZOFFSETFROM:-0500
TZOFFSETTO:-0600
TZNAME:CST
DTSTART:20161106T070000
END:STANDARD
BEGIN:DAYLIGHT
TZOFFSETFROM:-0600
TZOFFSETTO:-0500
TZNAME:CDT
DTSTART:20170312T080000
END:DAYLIGHT
BEGIN:STANDARD
TZOFFSETFROM:-0500
TZOFFSETTO:-0600
TZNAME:CST
DTSTART:20171105T070000
END:STANDARD
BEGIN:DAYLIGHT
TZOFFSETFROM:-0600
TZOFFSETTO:-0500
TZNAME:CDT
DTSTART:20180311T080000
END:DAYLIGHT
BEGIN:STANDARD
TZOFFSETFROM:-0500
TZOFFSETTO:-0600
TZNAME:CST
DTSTART:20181104T070000
END:STANDARD
END:VTIMEZONE
BEGIN:VEVENT
DTSTART;VALUE=DATE:20170520
DTEND;VALUE=DATE:20170521
DTSTAMP:20260421T091940
CREATED:20170115T173816Z
LAST-MODIFIED:20170115T173816Z
UID:506-1495238400-1495324799@wisconsinmotorcycleroads.com
SUMMARY:14th Annual Buck Kittredge Memorial Ride & Awareness
DESCRIPTION:14th Annual Buck Kittredge Memorial Ride & Awareness
URL:https://wisconsinmotorcycleroads.com/event/14th-annual-buck-kittredge-memorial-ride-awareness/
END:VEVENT
BEGIN:VEVENT
DTSTART;TZID=America/Chicago:20170520T110000
DTEND;TZID=America/Chicago:20170520T160000
DTSTAMP:20260421T091940
CREATED:20170505T200518Z
LAST-MODIFIED:20170505T200518Z
UID:559-1495278000-1495296000@wisconsinmotorcycleroads.com
SUMMARY:Season Opener Kick-Off Bash
DESCRIPTION:Kick off the season Wisconsin Style! Complimentary brats\, burgers and cold beverages! Live entertainment by Bobby Friss starting at 1 pm! Prize drawing at 3:30 pm\, must be present to win. \nWisconsin Harley-Davidson in Oconomowoc
URL:https://wisconsinmotorcycleroads.com/event/season-opener-kick-off-bash/
END:VEVENT
END:VCALENDAR