BEGIN:VCALENDAR
VERSION:2.0
PRODID:-//Wisconsin Motorcycle Roads Travel Guide - ECPv6.15.18//NONSGML v1.0//EN
CALSCALE:GREGORIAN
METHOD:PUBLISH
X-WR-CALNAME:Wisconsin Motorcycle Roads Travel Guide
X-ORIGINAL-URL:https://wisconsinmotorcycleroads.com
X-WR-CALDESC:Events for Wisconsin Motorcycle Roads Travel Guide
REFRESH-INTERVAL;VALUE=DURATION:PT1H
X-Robots-Tag:noindex
X-PUBLISHED-TTL:PT1H
BEGIN:VTIMEZONE
TZID:America/Chicago
BEGIN:DAYLIGHT
TZOFFSETFROM:-0600
TZOFFSETTO:-0500
TZNAME:CDT
DTSTART:20150308T080000
END:DAYLIGHT
BEGIN:STANDARD
TZOFFSETFROM:-0500
TZOFFSETTO:-0600
TZNAME:CST
DTSTART:20151101T070000
END:STANDARD
BEGIN:DAYLIGHT
TZOFFSETFROM:-0600
TZOFFSETTO:-0500
TZNAME:CDT
DTSTART:20160313T080000
END:DAYLIGHT
BEGIN:STANDARD
TZOFFSETFROM:-0500
TZOFFSETTO:-0600
TZNAME:CST
DTSTART:20161106T070000
END:STANDARD
BEGIN:DAYLIGHT
TZOFFSETFROM:-0600
TZOFFSETTO:-0500
TZNAME:CDT
DTSTART:20170312T080000
END:DAYLIGHT
BEGIN:STANDARD
TZOFFSETFROM:-0500
TZOFFSETTO:-0600
TZNAME:CST
DTSTART:20171105T070000
END:STANDARD
END:VTIMEZONE
BEGIN:VEVENT
DTSTART;VALUE=DATE:20160611
DTEND;VALUE=DATE:20160612
DTSTAMP:20260421T044749
CREATED:20160426T012019Z
LAST-MODIFIED:20160426T012019Z
UID:427-1465603200-1465689599@wisconsinmotorcycleroads.com
SUMMARY:June 11 - Have a Heart Motorcycle Ride - Thiensville
DESCRIPTION:The 8th Annual Have A Heart Motorcycle Ride\, sponsored by the Suburban Milwaukee HOG Chapter and Suburban Motors Harley-Davidson\, will be held on Saturday\, June 11. It will begin and end at Suburban Motors Harley-Davidson in Thiensville. Join us for a 70-mile plus scenic ride through the hills and countryside of Southeastern Wisconsin to support life-saving cardiovascular research at the Medical College of Wisconsin Cardiovascular Center. Event details: Ride begins and ends at Suburban Motors Harley-Davidson\, 139 N. Main St.\, Thiensville. Check in 10:30 – 11:30 a.m. Rider welcome at 11:30 a.m. sharp\, rain or shine. All participants will enjoy a pre-ride light breakfast\, 70-mile plus ride\, a pin\, a post ride barbecue\, live music\, raffle and more. Price: $25 per 1 Bike/1 Rider and $45 per 1 Bike/2 Riders until 6/6/2016. Go to www.mcw.edu/haveaheart to pre-register.
URL:https://wisconsinmotorcycleroads.com/event/june-11-save-a-heart-motorcycle-ride-thiensville/
END:VEVENT
END:VCALENDAR